BEGIN:VCALENDAR
VERSION:2.0
PRODID:-//Basildon Table Tennis Club - ECPv6.15.17.1//NONSGML v1.0//EN
CALSCALE:GREGORIAN
METHOD:PUBLISH
X-WR-CALNAME:Basildon Table Tennis Club
X-ORIGINAL-URL:https://basildonttc.co.uk
X-WR-CALDESC:Events for Basildon Table Tennis Club
REFRESH-INTERVAL;VALUE=DURATION:PT1H
X-Robots-Tag:noindex
X-PUBLISHED-TTL:PT1H
BEGIN:VTIMEZONE
TZID:Europe/London
BEGIN:DAYLIGHT
TZOFFSETFROM:+0000
TZOFFSETTO:+0100
TZNAME:BST
DTSTART:20250330T010000
END:DAYLIGHT
BEGIN:STANDARD
TZOFFSETFROM:+0100
TZOFFSETTO:+0000
TZNAME:GMT
DTSTART:20251026T010000
END:STANDARD
BEGIN:DAYLIGHT
TZOFFSETFROM:+0000
TZOFFSETTO:+0100
TZNAME:BST
DTSTART:20260329T010000
END:DAYLIGHT
BEGIN:STANDARD
TZOFFSETFROM:+0100
TZOFFSETTO:+0000
TZNAME:GMT
DTSTART:20261025T010000
END:STANDARD
BEGIN:DAYLIGHT
TZOFFSETFROM:+0000
TZOFFSETTO:+0100
TZNAME:BST
DTSTART:20270328T010000
END:DAYLIGHT
BEGIN:STANDARD
TZOFFSETFROM:+0100
TZOFFSETTO:+0000
TZNAME:GMT
DTSTART:20271031T010000
END:STANDARD
END:VTIMEZONE
BEGIN:VEVENT
DTSTART;TZID=Europe/London:20260324T193000
DTEND;TZID=Europe/London:20260324T230000
DTSTAMP:20260419T172516
CREATED:20250825T143454Z
LAST-MODIFIED:20250825T143454Z
UID:1328-1774380600-1774393200@basildonttc.co.uk
SUMMARY:Basildon B vs Stanford A (Away)
DESCRIPTION:
URL:https://basildonttc.co.uk/event/basildon-b-vs-stanford-a-away-2/
END:VEVENT
BEGIN:VEVENT
DTSTART;TZID=Europe/London:20260324T193000
DTEND;TZID=Europe/London:20260324T230000
DTSTAMP:20260419T172516
CREATED:20250827T100247Z
LAST-MODIFIED:20250827T100247Z
UID:1394-1774380600-1774393200@basildonttc.co.uk
SUMMARY:Basildon C vs Hockley A (Home)
DESCRIPTION:
URL:https://basildonttc.co.uk/event/basildon-c-vs-hockley-a-home/
END:VEVENT
BEGIN:VEVENT
DTSTART;TZID=Europe/London:20260324T193000
DTEND;TZID=Europe/London:20260324T230000
DTSTAMP:20260419T172516
CREATED:20250827T100331Z
LAST-MODIFIED:20250827T100331Z
UID:1411-1774380600-1774393200@basildonttc.co.uk
SUMMARY:Basildon E vs Hockley B (Home)
DESCRIPTION:
URL:https://basildonttc.co.uk/event/basildon-e-vs-hockley-b-home-3/
END:VEVENT
BEGIN:VEVENT
DTSTART;TZID=Europe/London:20260324T193000
DTEND;TZID=Europe/London:20260324T230000
DTSTAMP:20260419T172516
CREATED:20250827T214329Z
LAST-MODIFIED:20250827T214329Z
UID:1551-1774380600-1774393200@basildonttc.co.uk
SUMMARY:Basildon F vs Stanford C (Away)
DESCRIPTION:
URL:https://basildonttc.co.uk/event/basildon-f-vs-stanford-c-away-3/
END:VEVENT
END:VCALENDAR