BEGIN:VCALENDAR
VERSION:2.0
PRODID:-//Basildon Table Tennis Club - ECPv6.15.17.1//NONSGML v1.0//EN
CALSCALE:GREGORIAN
METHOD:PUBLISH
X-WR-CALNAME:Basildon Table Tennis Club
X-ORIGINAL-URL:https://basildonttc.co.uk
X-WR-CALDESC:Events for Basildon Table Tennis Club
REFRESH-INTERVAL;VALUE=DURATION:PT1H
X-Robots-Tag:noindex
X-PUBLISHED-TTL:PT1H
BEGIN:VTIMEZONE
TZID:Europe/London
BEGIN:DAYLIGHT
TZOFFSETFROM:+0000
TZOFFSETTO:+0100
TZNAME:BST
DTSTART:20250330T010000
END:DAYLIGHT
BEGIN:STANDARD
TZOFFSETFROM:+0100
TZOFFSETTO:+0000
TZNAME:GMT
DTSTART:20251026T010000
END:STANDARD
BEGIN:DAYLIGHT
TZOFFSETFROM:+0000
TZOFFSETTO:+0100
TZNAME:BST
DTSTART:20260329T010000
END:DAYLIGHT
BEGIN:STANDARD
TZOFFSETFROM:+0100
TZOFFSETTO:+0000
TZNAME:GMT
DTSTART:20261025T010000
END:STANDARD
BEGIN:DAYLIGHT
TZOFFSETFROM:+0000
TZOFFSETTO:+0100
TZNAME:BST
DTSTART:20270328T010000
END:DAYLIGHT
BEGIN:STANDARD
TZOFFSETFROM:+0100
TZOFFSETTO:+0000
TZNAME:GMT
DTSTART:20271031T010000
END:STANDARD
END:VTIMEZONE
BEGIN:VEVENT
DTSTART;TZID=Europe/London:20260423T193000
DTEND;TZID=Europe/London:20260423T230000
DTSTAMP:20260419T180532
CREATED:20250827T214631Z
LAST-MODIFIED:20250827T214631Z
UID:1591-1776972600-1776985200@basildonttc.co.uk
SUMMARY:Basildon H vs Invicta (Home)
DESCRIPTION:
URL:https://basildonttc.co.uk/event/basildon-h-vs-invicta-home/
END:VEVENT
BEGIN:VEVENT
DTSTART;TZID=Europe/London:20260423T193000
DTEND;TZID=Europe/London:20260423T230000
DTSTAMP:20260419T180532
CREATED:20250827T093636Z
LAST-MODIFIED:20250827T095520Z
UID:1347-1776972600-1776985200@basildonttc.co.uk
SUMMARY:Basildon D vs Hockley B (Home)
DESCRIPTION:
URL:https://basildonttc.co.uk/event/basildon-d-vs-hockley-b-home-2/
END:VEVENT
BEGIN:VEVENT
DTSTART;TZID=Europe/London:20260421T193000
DTEND;TZID=Europe/London:20260421T230000
DTSTAMP:20260419T180532
CREATED:20250827T214528Z
LAST-MODIFIED:20250827T214528Z
UID:1572-1776799800-1776812400@basildonttc.co.uk
SUMMARY:Basildon G vs Stanford B (Away)
DESCRIPTION:
URL:https://basildonttc.co.uk/event/basildon-g-vs-stanford-b-away/
END:VEVENT
BEGIN:VEVENT
DTSTART;TZID=Europe/London:20260421T193000
DTEND;TZID=Europe/London:20260421T230000
DTSTAMP:20260419T180532
CREATED:20250827T214329Z
LAST-MODIFIED:20250827T214329Z
UID:1553-1776799800-1776812400@basildonttc.co.uk
SUMMARY:Basildon F vs Hadleigh Forum (Away)
DESCRIPTION:
URL:https://basildonttc.co.uk/event/basildon-f-vs-hadleigh-forum-away-3/
END:VEVENT
BEGIN:VEVENT
DTSTART;TZID=Europe/London:20260421T193000
DTEND;TZID=Europe/London:20260421T230000
DTSTAMP:20260419T180532
CREATED:20250825T143454Z
LAST-MODIFIED:20250825T143454Z
UID:1330-1776799800-1776812400@basildonttc.co.uk
SUMMARY:Basildon B vs Basildon E (Away)
DESCRIPTION:
URL:https://basildonttc.co.uk/event/basildon-b-vs-basildon-e-away-2/
END:VEVENT
BEGIN:VEVENT
DTSTART;TZID=Europe/London:20260421T193000
DTEND;TZID=Europe/London:20260421T230000
DTSTAMP:20260419T180532
CREATED:20250825T141932Z
LAST-MODIFIED:20250825T141932Z
UID:1308-1776799800-1776812400@basildonttc.co.uk
SUMMARY:Basildon A vs Basildon C (Away)
DESCRIPTION:
URL:https://basildonttc.co.uk/event/basildon-a-vs-basildon-c-away/
END:VEVENT
BEGIN:VEVENT
DTSTART;TZID=Europe/London:20260416T193000
DTEND;TZID=Europe/London:20260416T230000
DTSTAMP:20260419T180532
CREATED:20250827T214528Z
LAST-MODIFIED:20250827T214528Z
UID:1571-1776367800-1776380400@basildonttc.co.uk
SUMMARY:Basildon G vs Stanford C (Home)
DESCRIPTION:
URL:https://basildonttc.co.uk/event/basildon-g-vs-stanford-c-home-2/
END:VEVENT
BEGIN:VEVENT
DTSTART;TZID=Europe/London:20260416T193000
DTEND;TZID=Europe/London:20260416T230000
DTSTAMP:20260419T180532
CREATED:20250827T214329Z
LAST-MODIFIED:20250827T214329Z
UID:1552-1776367800-1776380400@basildonttc.co.uk
SUMMARY:Basildon F vs Stanford B (Home)
DESCRIPTION:
URL:https://basildonttc.co.uk/event/basildon-f-vs-stanford-b-home/
END:VEVENT
BEGIN:VEVENT
DTSTART;TZID=Europe/London:20260414T193000
DTEND;TZID=Europe/London:20260414T230000
DTSTAMP:20260419T180532
CREATED:20250827T093636Z
LAST-MODIFIED:20250827T095444Z
UID:1346-1776195000-1776207600@basildonttc.co.uk
SUMMARY:Basildon D vs Stanford A (Away)
DESCRIPTION:
URL:https://basildonttc.co.uk/event/basildon-d-vs-stanford-a-away-2/
END:VEVENT
BEGIN:VEVENT
DTSTART;TZID=Europe/London:20260414T193000
DTEND;TZID=Europe/London:20260414T230000
DTSTAMP:20260419T180532
CREATED:20250825T143454Z
LAST-MODIFIED:20250825T143454Z
UID:1329-1776195000-1776207600@basildonttc.co.uk
SUMMARY:Basildon B vs Hockley B (Home)
DESCRIPTION:
URL:https://basildonttc.co.uk/event/basildon-b-vs-hockley-b-home-2/
END:VEVENT
BEGIN:VEVENT
DTSTART;TZID=Europe/London:20260414T193000
DTEND;TZID=Europe/London:20260414T230000
DTSTAMP:20260419T180532
CREATED:20250825T141932Z
LAST-MODIFIED:20250825T141932Z
UID:1307-1776195000-1776207600@basildonttc.co.uk
SUMMARY:Basildon A vs Hockley A (Home)
DESCRIPTION:
URL:https://basildonttc.co.uk/event/basildon-a-vs-hockley-a-home-2/
END:VEVENT
BEGIN:VEVENT
DTSTART;TZID=Europe/London:20260326T193000
DTEND;TZID=Europe/London:20260326T230000
DTSTAMP:20260419T180532
CREATED:20250827T214623Z
LAST-MODIFIED:20250827T214623Z
UID:1590-1774553400-1774566000@basildonttc.co.uk
SUMMARY:Basildon H vs Canvey B (Away)
DESCRIPTION:
URL:https://basildonttc.co.uk/event/basildon-h-vs-canvey-b-away-2/
END:VEVENT
BEGIN:VEVENT
DTSTART;TZID=Europe/London:20260326T193000
DTEND;TZID=Europe/London:20260326T230000
DTSTAMP:20260419T180532
CREATED:20250827T214436Z
LAST-MODIFIED:20250827T214436Z
UID:1570-1774553400-1774566000@basildonttc.co.uk
SUMMARY:Basildon G vs Grays (Away)
DESCRIPTION:
URL:https://basildonttc.co.uk/event/basildon-g-vs-grays-away-2/
END:VEVENT
BEGIN:VEVENT
DTSTART;TZID=Europe/London:20260326T193000
DTEND;TZID=Europe/London:20260326T230000
DTSTAMP:20260419T180532
CREATED:20250827T093636Z
LAST-MODIFIED:20250827T095349Z
UID:1345-1774553400-1774566000@basildonttc.co.uk
SUMMARY:Basildon D vs Northlands Park (Home)
DESCRIPTION:
URL:https://basildonttc.co.uk/event/basildon-d-vs-northlands-park-home/
END:VEVENT
BEGIN:VEVENT
DTSTART;TZID=Europe/London:20260324T193000
DTEND;TZID=Europe/London:20260324T230000
DTSTAMP:20260419T180532
CREATED:20250827T214329Z
LAST-MODIFIED:20250827T214329Z
UID:1551-1774380600-1774393200@basildonttc.co.uk
SUMMARY:Basildon F vs Stanford C (Away)
DESCRIPTION:
URL:https://basildonttc.co.uk/event/basildon-f-vs-stanford-c-away-3/
END:VEVENT
BEGIN:VEVENT
DTSTART;TZID=Europe/London:20260324T193000
DTEND;TZID=Europe/London:20260324T230000
DTSTAMP:20260419T180532
CREATED:20250827T100331Z
LAST-MODIFIED:20250827T100331Z
UID:1411-1774380600-1774393200@basildonttc.co.uk
SUMMARY:Basildon E vs Hockley B (Home)
DESCRIPTION:
URL:https://basildonttc.co.uk/event/basildon-e-vs-hockley-b-home-3/
END:VEVENT
BEGIN:VEVENT
DTSTART;TZID=Europe/London:20260324T193000
DTEND;TZID=Europe/London:20260324T230000
DTSTAMP:20260419T180532
CREATED:20250827T100247Z
LAST-MODIFIED:20250827T100247Z
UID:1394-1774380600-1774393200@basildonttc.co.uk
SUMMARY:Basildon C vs Hockley A (Home)
DESCRIPTION:
URL:https://basildonttc.co.uk/event/basildon-c-vs-hockley-a-home/
END:VEVENT
BEGIN:VEVENT
DTSTART;TZID=Europe/London:20260324T193000
DTEND;TZID=Europe/London:20260324T230000
DTSTAMP:20260419T180532
CREATED:20250825T143454Z
LAST-MODIFIED:20250825T143454Z
UID:1328-1774380600-1774393200@basildonttc.co.uk
SUMMARY:Basildon B vs Stanford A (Away)
DESCRIPTION:
URL:https://basildonttc.co.uk/event/basildon-b-vs-stanford-a-away-2/
END:VEVENT
BEGIN:VEVENT
DTSTART;TZID=Europe/London:20260323T193000
DTEND;TZID=Europe/London:20260323T230000
DTSTAMP:20260419T180533
CREATED:20250825T141918Z
LAST-MODIFIED:20250825T141918Z
UID:1306-1774294200-1774306800@basildonttc.co.uk
SUMMARY:Basildon A vs Canvey A (Away)
DESCRIPTION:
URL:https://basildonttc.co.uk/event/basildon-a-vs-canvey-a-away/
END:VEVENT
BEGIN:VEVENT
DTSTART;TZID=Europe/London:20260319T193000
DTEND;TZID=Europe/London:20260319T230000
DTSTAMP:20260419T180533
CREATED:20250827T214622Z
LAST-MODIFIED:20250827T214622Z
UID:1589-1773948600-1773961200@basildonttc.co.uk
SUMMARY:Basildon H vs Coys B (Away)
DESCRIPTION:
URL:https://basildonttc.co.uk/event/basildon-h-vs-coys-b-away/
END:VEVENT
BEGIN:VEVENT
DTSTART;TZID=Europe/London:20260319T193000
DTEND;TZID=Europe/London:20260319T230000
DTSTAMP:20260419T180533
CREATED:20250827T214436Z
LAST-MODIFIED:20250827T214436Z
UID:1569-1773948600-1773961200@basildonttc.co.uk
SUMMARY:Basildon G vs Wickford Community Centre (Home)
DESCRIPTION:
URL:https://basildonttc.co.uk/event/basildon-g-vs-wickford-community-centre-home/
END:VEVENT
BEGIN:VEVENT
DTSTART;TZID=Europe/London:20260319T193000
DTEND;TZID=Europe/London:20260319T230000
DTSTAMP:20260419T180533
CREATED:20250827T214328Z
LAST-MODIFIED:20250827T214328Z
UID:1550-1773948600-1773961200@basildonttc.co.uk
SUMMARY:Basildon F vs Grays (Home)
DESCRIPTION:
URL:https://basildonttc.co.uk/event/basildon-f-vs-grays-home-3/
END:VEVENT
BEGIN:VEVENT
DTSTART;TZID=Europe/London:20260317T193000
DTEND;TZID=Europe/London:20260317T230000
DTSTAMP:20260419T180533
CREATED:20250827T100331Z
LAST-MODIFIED:20250827T100331Z
UID:1410-1773775800-1773788400@basildonttc.co.uk
SUMMARY:Basildon E vs Stanford A (Away)
DESCRIPTION:
URL:https://basildonttc.co.uk/event/basildon-e-vs-stanford-a-away-3/
END:VEVENT
BEGIN:VEVENT
DTSTART;TZID=Europe/London:20260317T193000
DTEND;TZID=Europe/London:20260317T230000
DTSTAMP:20260419T180533
CREATED:20250827T100246Z
LAST-MODIFIED:20250827T100246Z
UID:1393-1773775800-1773788400@basildonttc.co.uk
SUMMARY:Basildon C vs Canvey A (Away)
DESCRIPTION:
URL:https://basildonttc.co.uk/event/basildon-c-vs-canvey-a-away/
END:VEVENT
BEGIN:VEVENT
DTSTART;TZID=Europe/London:20260317T193000
DTEND;TZID=Europe/London:20260317T230000
DTSTAMP:20260419T180533
CREATED:20250827T093635Z
LAST-MODIFIED:20250827T095256Z
UID:1344-1773775800-1773788400@basildonttc.co.uk
SUMMARY:Basildon D vs Selbourne (Away)
DESCRIPTION:
URL:https://basildonttc.co.uk/event/basildon-d-vs-selbourne-away/
END:VEVENT
BEGIN:VEVENT
DTSTART;TZID=Europe/London:20260317T193000
DTEND;TZID=Europe/London:20260317T230000
DTSTAMP:20260419T180533
CREATED:20250825T141918Z
LAST-MODIFIED:20250825T141918Z
UID:1305-1773775800-1773788400@basildonttc.co.uk
SUMMARY:Basildon A vs Coys A (Home)
DESCRIPTION:
URL:https://basildonttc.co.uk/event/basildon-a-vs-coys-a-home-3/
END:VEVENT
BEGIN:VEVENT
DTSTART;TZID=Europe/London:20260316T193000
DTEND;TZID=Europe/London:20260316T230000
DTSTAMP:20260419T180533
CREATED:20250825T143454Z
LAST-MODIFIED:20250825T143454Z
UID:1327-1773689400-1773702000@basildonttc.co.uk
SUMMARY:Basildon B vs Northlands Park (Home)
DESCRIPTION:
URL:https://basildonttc.co.uk/event/basildon-b-vs-northlands-park-home-2/
END:VEVENT
BEGIN:VEVENT
DTSTART;TZID=Europe/London:20260312T193000
DTEND;TZID=Europe/London:20260312T230000
DTSTAMP:20260419T180533
CREATED:20250827T214435Z
LAST-MODIFIED:20250827T214435Z
UID:1568-1773343800-1773356400@basildonttc.co.uk
SUMMARY:Basildon G vs Basildon H (Away)
DESCRIPTION:
URL:https://basildonttc.co.uk/event/basildon-g-vs-basildon-h-away-3/
END:VEVENT
BEGIN:VEVENT
DTSTART;TZID=Europe/London:20260312T193000
DTEND;TZID=Europe/London:20260312T230000
DTSTAMP:20260419T180533
CREATED:20250827T214328Z
LAST-MODIFIED:20250827T214328Z
UID:1549-1773343800-1773356400@basildonttc.co.uk
SUMMARY:Basildon F vs Wickford Community Centre (Away)
DESCRIPTION:
URL:https://basildonttc.co.uk/event/basildon-f-vs-wickford-community-centre-away/
END:VEVENT
BEGIN:VEVENT
DTSTART;TZID=Europe/London:20260312T193000
DTEND;TZID=Europe/London:20260312T230000
DTSTAMP:20260419T180533
CREATED:20250827T100232Z
LAST-MODIFIED:20250827T100232Z
UID:1392-1773343800-1773356400@basildonttc.co.uk
SUMMARY:Basildon C vs Coys A (Home)
DESCRIPTION:
URL:https://basildonttc.co.uk/event/basildon-c-vs-coys-a-home/
END:VEVENT
END:VCALENDAR