BEGIN:VCALENDAR
VERSION:2.0
PRODID:-//Basildon Table Tennis Club - ECPv6.15.17.1//NONSGML v1.0//EN
CALSCALE:GREGORIAN
METHOD:PUBLISH
X-WR-CALNAME:Basildon Table Tennis Club
X-ORIGINAL-URL:https://basildonttc.co.uk
X-WR-CALDESC:Events for Basildon Table Tennis Club
REFRESH-INTERVAL;VALUE=DURATION:PT1H
X-Robots-Tag:noindex
X-PUBLISHED-TTL:PT1H
BEGIN:VTIMEZONE
TZID:Europe/London
BEGIN:DAYLIGHT
TZOFFSETFROM:+0000
TZOFFSETTO:+0100
TZNAME:BST
DTSTART:20250330T010000
END:DAYLIGHT
BEGIN:STANDARD
TZOFFSETFROM:+0100
TZOFFSETTO:+0000
TZNAME:GMT
DTSTART:20251026T010000
END:STANDARD
BEGIN:DAYLIGHT
TZOFFSETFROM:+0000
TZOFFSETTO:+0100
TZNAME:BST
DTSTART:20260329T010000
END:DAYLIGHT
BEGIN:STANDARD
TZOFFSETFROM:+0100
TZOFFSETTO:+0000
TZNAME:GMT
DTSTART:20261025T010000
END:STANDARD
BEGIN:DAYLIGHT
TZOFFSETFROM:+0000
TZOFFSETTO:+0100
TZNAME:BST
DTSTART:20270328T010000
END:DAYLIGHT
BEGIN:STANDARD
TZOFFSETFROM:+0100
TZOFFSETTO:+0000
TZNAME:GMT
DTSTART:20271031T010000
END:STANDARD
END:VTIMEZONE
BEGIN:VEVENT
DTSTART;TZID=Europe/London:20260127T193000
DTEND;TZID=Europe/London:20260127T230000
DTSTAMP:20260419T194846
CREATED:20250825T141903Z
LAST-MODIFIED:20250825T141903Z
UID:1300-1769542200-1769554800@basildonttc.co.uk
SUMMARY:Basildon A vs Stanford A (Away)
DESCRIPTION:
URL:https://basildonttc.co.uk/event/basildon-a-vs-stanford-a-away/
END:VEVENT
BEGIN:VEVENT
DTSTART;TZID=Europe/London:20260127T193000
DTEND;TZID=Europe/London:20260127T230000
DTSTAMP:20260419T194846
CREATED:20250825T143439Z
LAST-MODIFIED:20250825T143439Z
UID:1323-1769542200-1769554800@basildonttc.co.uk
SUMMARY:Basildon B vs Canvey A (Home)
DESCRIPTION:
URL:https://basildonttc.co.uk/event/basildon-b-vs-canvey-a-home-2/
END:VEVENT
BEGIN:VEVENT
DTSTART;TZID=Europe/London:20260127T193000
DTEND;TZID=Europe/London:20260127T230000
DTSTAMP:20260419T194846
CREATED:20250827T100232Z
LAST-MODIFIED:20250827T100232Z
UID:1389-1769542200-1769554800@basildonttc.co.uk
SUMMARY:Basildon C vs Hockley B (Away)
DESCRIPTION:
URL:https://basildonttc.co.uk/event/basildon-c-vs-hockley-b-away-3/
END:VEVENT
BEGIN:VEVENT
DTSTART;TZID=Europe/London:20260127T193000
DTEND;TZID=Europe/London:20260127T230000
DTSTAMP:20260419T194846
CREATED:20250827T100317Z
LAST-MODIFIED:20250827T100317Z
UID:1407-1769542200-1769554800@basildonttc.co.uk
SUMMARY:Basildon E vs Hockley A (Home)
DESCRIPTION:
URL:https://basildonttc.co.uk/event/basildon-e-vs-hockley-a-home/
END:VEVENT
BEGIN:VEVENT
DTSTART;TZID=Europe/London:20260128T193000
DTEND;TZID=Europe/London:20260128T230000
DTSTAMP:20260419T194846
CREATED:20250827T221321Z
LAST-MODIFIED:20250827T221321Z
UID:1643-1769628600-1769641200@basildonttc.co.uk
SUMMARY:Basildon B vs Hadleigh Forum C (Home) - Southend League
DESCRIPTION:
URL:https://basildonttc.co.uk/event/basildon-b-vs-hadleigh-forum-c-home-southend-league/
END:VEVENT
BEGIN:VEVENT
DTSTART;TZID=Europe/London:20260128T193000
DTEND;TZID=Europe/London:20260128T230000
DTSTAMP:20260419T194846
CREATED:20250827T221912Z
LAST-MODIFIED:20250827T221912Z
UID:1663-1769628600-1769641200@basildonttc.co.uk
SUMMARY:Basildon C vs Hadleigh Forum C (Home) - Southend League
DESCRIPTION:
URL:https://basildonttc.co.uk/event/basildon-c-vs-hadleigh-forum-c-home-southend-league/
END:VEVENT
BEGIN:VEVENT
DTSTART;TZID=Europe/London:20260129T193000
DTEND;TZID=Europe/London:20260129T230000
DTSTAMP:20260419T194846
CREATED:20250827T093630Z
LAST-MODIFIED:20250827T095146Z
UID:1341-1769715000-1769727600@basildonttc.co.uk
SUMMARY:Basildon D vs Coys A (Home)
DESCRIPTION:
URL:https://basildonttc.co.uk/event/basildon-d-vs-coys-a-home/
END:VEVENT
BEGIN:VEVENT
DTSTART;TZID=Europe/London:20260129T193000
DTEND;TZID=Europe/London:20260129T230000
DTSTAMP:20260419T194846
CREATED:20250827T214421Z
LAST-MODIFIED:20250827T214421Z
UID:1565-1769715000-1769727600@basildonttc.co.uk
SUMMARY:Basildon G vs Coys B (Away)
DESCRIPTION:
URL:https://basildonttc.co.uk/event/basildon-g-vs-coys-b-away/
END:VEVENT
BEGIN:VEVENT
DTSTART;TZID=Europe/London:20260129T193000
DTEND;TZID=Europe/London:20260129T230000
DTSTAMP:20260419T194846
CREATED:20250827T214622Z
LAST-MODIFIED:20250827T214622Z
UID:1586-1769715000-1769727600@basildonttc.co.uk
SUMMARY:Basildon H vs Stanford C (Home)
DESCRIPTION:
URL:https://basildonttc.co.uk/event/basildon-h-vs-stanford-c-home-2/
END:VEVENT
BEGIN:VEVENT
DTSTART;TZID=Europe/London:20260204T193000
DTEND;TZID=Europe/London:20260204T230000
DTSTAMP:20260419T194846
CREATED:20250827T220905Z
LAST-MODIFIED:20250827T220905Z
UID:1622-1770233400-1770246000@basildonttc.co.uk
SUMMARY:Basildon A vs Invicta A (Away) - Southend League
DESCRIPTION:
URL:https://basildonttc.co.uk/event/basildon-a-vs-invicta-a-away-southend-league/
END:VEVENT
BEGIN:VEVENT
DTSTART;TZID=Europe/London:20260210T193000
DTEND;TZID=Europe/London:20260210T230000
DTSTAMP:20260419T194846
CREATED:20250825T141903Z
LAST-MODIFIED:20250825T141903Z
UID:1301-1770751800-1770764400@basildonttc.co.uk
SUMMARY:Basildon A vs Hockley B (Home)
DESCRIPTION:
URL:https://basildonttc.co.uk/event/basildon-a-vs-hockley-b-home/
END:VEVENT
BEGIN:VEVENT
DTSTART;TZID=Europe/London:20260210T193000
DTEND;TZID=Europe/London:20260210T230000
DTSTAMP:20260419T194846
CREATED:20250825T143439Z
LAST-MODIFIED:20250825T143439Z
UID:1324-1770751800-1770764400@basildonttc.co.uk
SUMMARY:Basildon B vs Hockley A (Away)
DESCRIPTION:
URL:https://basildonttc.co.uk/event/basildon-b-vs-hockley-a-away-5/
END:VEVENT
BEGIN:VEVENT
DTSTART;TZID=Europe/London:20260210T193000
DTEND;TZID=Europe/London:20260210T230000
DTSTAMP:20260419T194846
CREATED:20250827T100232Z
LAST-MODIFIED:20250827T100232Z
UID:1390-1770751800-1770764400@basildonttc.co.uk
SUMMARY:Basildon C vs Basildon E (Home)
DESCRIPTION:
URL:https://basildonttc.co.uk/event/basildon-c-vs-basildon-e-home-2/
END:VEVENT
BEGIN:VEVENT
DTSTART;TZID=Europe/London:20260210T193000
DTEND;TZID=Europe/London:20260210T230000
DTSTAMP:20260419T194846
CREATED:20250827T214622Z
LAST-MODIFIED:20250827T214622Z
UID:1587-1770751800-1770764400@basildonttc.co.uk
SUMMARY:Basildon H vs Stanford B (Away)
DESCRIPTION:
URL:https://basildonttc.co.uk/event/basildon-h-vs-stanford-b-away/
END:VEVENT
BEGIN:VEVENT
DTSTART;TZID=Europe/London:20260211T193000
DTEND;TZID=Europe/London:20260211T230000
DTSTAMP:20260419T194846
CREATED:20250827T220905Z
LAST-MODIFIED:20250827T220905Z
UID:1623-1770838200-1770850800@basildonttc.co.uk
SUMMARY:Basildon A vs Rawreth A (Home) - Southend League
DESCRIPTION:
URL:https://basildonttc.co.uk/event/basildon-a-vs-rawreth-a-home-southend-league/
END:VEVENT
BEGIN:VEVENT
DTSTART;TZID=Europe/London:20260212T193000
DTEND;TZID=Europe/London:20260212T230000
DTSTAMP:20260419T194846
CREATED:20250827T214435Z
LAST-MODIFIED:20250827T214435Z
UID:1566-1770924600-1770937200@basildonttc.co.uk
SUMMARY:Basildon G vs Canvey B (Home)
DESCRIPTION:
URL:https://basildonttc.co.uk/event/basildon-g-vs-canvey-b-home/
END:VEVENT
BEGIN:VEVENT
DTSTART;TZID=Europe/London:20260212T193000
DTEND;TZID=Europe/London:20260212T230000
DTSTAMP:20260419T194846
CREATED:20250827T221321Z
LAST-MODIFIED:20250827T221321Z
UID:1644-1770924600-1770937200@basildonttc.co.uk
SUMMARY:Basildon B vs Rawreth C (Away) - Southend League
DESCRIPTION:
URL:https://basildonttc.co.uk/event/basildon-b-vs-rawreth-c-away-southend-league/
END:VEVENT
BEGIN:VEVENT
DTSTART;TZID=Europe/London:20260212T193000
DTEND;TZID=Europe/London:20260212T230000
DTSTAMP:20260419T194846
CREATED:20250827T221913Z
LAST-MODIFIED:20250827T221913Z
UID:1664-1770924600-1770937200@basildonttc.co.uk
SUMMARY:Basildon C vs Rawreth C (Away) - Southend League
DESCRIPTION:
URL:https://basildonttc.co.uk/event/basildon-c-vs-rawreth-c-away-southend-league/
END:VEVENT
BEGIN:VEVENT
DTSTART;TZID=Europe/London:20260217T193000
DTEND;TZID=Europe/London:20260217T230000
DTSTAMP:20260419T194846
CREATED:20250825T141917Z
LAST-MODIFIED:20250825T141917Z
UID:1302-1771356600-1771369200@basildonttc.co.uk
SUMMARY:Basildon A vs Basildon E (Away)
DESCRIPTION:
URL:https://basildonttc.co.uk/event/basildon-a-vs-basildon-e-away/
END:VEVENT
BEGIN:VEVENT
DTSTART;TZID=Europe/London:20260217T193000
DTEND;TZID=Europe/London:20260217T230000
DTSTAMP:20260419T194846
CREATED:20250825T143439Z
LAST-MODIFIED:20250825T143439Z
UID:1325-1771356600-1771369200@basildonttc.co.uk
SUMMARY:Basildon B vs Basildon C (Home)
DESCRIPTION:
URL:https://basildonttc.co.uk/event/basildon-b-vs-basildon-c-home-2/
END:VEVENT
BEGIN:VEVENT
DTSTART;TZID=Europe/London:20260217T193000
DTEND;TZID=Europe/London:20260217T230000
DTSTAMP:20260419T194846
CREATED:20250827T214254Z
LAST-MODIFIED:20250827T214254Z
UID:1547-1771356600-1771369200@basildonttc.co.uk
SUMMARY:Basildon F vs Invicta (Away)
DESCRIPTION:
URL:https://basildonttc.co.uk/event/basildon-f-vs-invicta-away/
END:VEVENT
BEGIN:VEVENT
DTSTART;TZID=Europe/London:20260219T193000
DTEND;TZID=Europe/London:20260219T230000
DTSTAMP:20260419T194846
CREATED:20250827T093635Z
LAST-MODIFIED:20250827T095219Z
UID:1343-1771529400-1771542000@basildonttc.co.uk
SUMMARY:Basildon D vs Hockley A (Home)
DESCRIPTION:
URL:https://basildonttc.co.uk/event/basildon-d-vs-hockley-a-home/
END:VEVENT
BEGIN:VEVENT
DTSTART;TZID=Europe/London:20260219T193000
DTEND;TZID=Europe/London:20260219T230000
DTSTAMP:20260419T194846
CREATED:20250827T214622Z
LAST-MODIFIED:20250827T214622Z
UID:1588-1771529400-1771542000@basildonttc.co.uk
SUMMARY:Basildon H vs Hadleigh Forum (Home)
DESCRIPTION:
URL:https://basildonttc.co.uk/event/basildon-h-vs-hadleigh-forum-home-2/
END:VEVENT
BEGIN:VEVENT
DTSTART;TZID=Europe/London:20260303T193000
DTEND;TZID=Europe/London:20260303T230000
DTSTAMP:20260419T194846
CREATED:20250825T141917Z
LAST-MODIFIED:20250825T141917Z
UID:1303-1772566200-1772578800@basildonttc.co.uk
SUMMARY:Basildon A vs Basildon B (Home)
DESCRIPTION:
URL:https://basildonttc.co.uk/event/basildon-a-vs-basildon-b-home-2/
END:VEVENT
BEGIN:VEVENT
DTSTART;TZID=Europe/London:20260303T193000
DTEND;TZID=Europe/London:20260303T230000
DTSTAMP:20260419T194846
CREATED:20250827T100232Z
LAST-MODIFIED:20250827T100232Z
UID:1391-1772566200-1772578800@basildonttc.co.uk
SUMMARY:Basildon C vs Basildon D (Away)
DESCRIPTION:
URL:https://basildonttc.co.uk/event/basildon-c-vs-basildon-d-away-2/
END:VEVENT
BEGIN:VEVENT
DTSTART;TZID=Europe/London:20260303T193000
DTEND;TZID=Europe/London:20260303T230000
DTSTAMP:20260419T194846
CREATED:20250827T100331Z
LAST-MODIFIED:20250827T100331Z
UID:1408-1772566200-1772578800@basildonttc.co.uk
SUMMARY:Basildon E vs Selbourne (Away)
DESCRIPTION:
URL:https://basildonttc.co.uk/event/basildon-e-vs-selbourne-away/
END:VEVENT
BEGIN:VEVENT
DTSTART;TZID=Europe/London:20260304T193000
DTEND;TZID=Europe/London:20260304T230000
DTSTAMP:20260419T194846
CREATED:20250827T220920Z
LAST-MODIFIED:20250827T220920Z
UID:1624-1772652600-1772665200@basildonttc.co.uk
SUMMARY:Basildon A vs Thorpe Bay A (Away) - Southend League
DESCRIPTION:
URL:https://basildonttc.co.uk/event/basildon-a-vs-thorpe-bay-a-away-southend-league/
END:VEVENT
BEGIN:VEVENT
DTSTART;TZID=Europe/London:20260304T193000
DTEND;TZID=Europe/London:20260304T230000
DTSTAMP:20260419T194846
CREATED:20250827T221321Z
LAST-MODIFIED:20250827T221321Z
UID:1645-1772652600-1772665200@basildonttc.co.uk
SUMMARY:Basildon B vs Hadleigh Forum B (Home) - Southend League
DESCRIPTION:
URL:https://basildonttc.co.uk/event/basildon-b-vs-hadleigh-forum-b-home-southend-league/
END:VEVENT
BEGIN:VEVENT
DTSTART;TZID=Europe/London:20260304T193000
DTEND;TZID=Europe/London:20260304T230000
DTSTAMP:20260419T194846
CREATED:20250827T221913Z
LAST-MODIFIED:20250827T221913Z
UID:1665-1772652600-1772665200@basildonttc.co.uk
SUMMARY:Basildon C vs Hadleigh Forum B (Home) - Southend League
DESCRIPTION:
URL:https://basildonttc.co.uk/event/basildon-c-vs-hadleigh-forum-b-home-southend-league/
END:VEVENT
BEGIN:VEVENT
DTSTART;TZID=Europe/London:20260305T193000
DTEND;TZID=Europe/London:20260305T230000
DTSTAMP:20260419T194846
CREATED:20250827T214254Z
LAST-MODIFIED:20250827T214254Z
UID:1548-1772739000-1772751600@basildonttc.co.uk
SUMMARY:Basildon F vs Basildon H (Home)
DESCRIPTION:
URL:https://basildonttc.co.uk/event/basildon-f-vs-basildon-h-home-2/
END:VEVENT
END:VCALENDAR