BEGIN:VCALENDAR
VERSION:2.0
PRODID:-//Basildon Table Tennis Club - ECPv6.15.17.1//NONSGML v1.0//EN
CALSCALE:GREGORIAN
METHOD:PUBLISH
X-WR-CALNAME:Basildon Table Tennis Club
X-ORIGINAL-URL:https://basildonttc.co.uk
X-WR-CALDESC:Events for Basildon Table Tennis Club
REFRESH-INTERVAL;VALUE=DURATION:PT1H
X-Robots-Tag:noindex
X-PUBLISHED-TTL:PT1H
BEGIN:VTIMEZONE
TZID:Europe/London
BEGIN:DAYLIGHT
TZOFFSETFROM:+0000
TZOFFSETTO:+0100
TZNAME:BST
DTSTART:20240331T010000
END:DAYLIGHT
BEGIN:STANDARD
TZOFFSETFROM:+0100
TZOFFSETTO:+0000
TZNAME:GMT
DTSTART:20241027T010000
END:STANDARD
BEGIN:DAYLIGHT
TZOFFSETFROM:+0000
TZOFFSETTO:+0100
TZNAME:BST
DTSTART:20250330T010000
END:DAYLIGHT
BEGIN:STANDARD
TZOFFSETFROM:+0100
TZOFFSETTO:+0000
TZNAME:GMT
DTSTART:20251026T010000
END:STANDARD
BEGIN:DAYLIGHT
TZOFFSETFROM:+0000
TZOFFSETTO:+0100
TZNAME:BST
DTSTART:20260329T010000
END:DAYLIGHT
BEGIN:STANDARD
TZOFFSETFROM:+0100
TZOFFSETTO:+0000
TZNAME:GMT
DTSTART:20261025T010000
END:STANDARD
END:VTIMEZONE
BEGIN:VEVENT
DTSTART;TZID=Europe/London:20250930T193000
DTEND;TZID=Europe/London:20250930T230000
DTSTAMP:20260422T043543
CREATED:20250827T100312Z
LAST-MODIFIED:20250827T100312Z
UID:1400-1759260600-1759273200@basildonttc.co.uk
SUMMARY:Basildon E vs Hockley A (Away)
DESCRIPTION:
URL:https://basildonttc.co.uk/event/basildon-e-vs-hockley-a-away/
END:VEVENT
BEGIN:VEVENT
DTSTART;TZID=Europe/London:20250930T193000
DTEND;TZID=Europe/London:20250930T230000
DTSTAMP:20260422T043543
CREATED:20250827T100213Z
LAST-MODIFIED:20250827T100213Z
UID:1380-1759260600-1759273200@basildonttc.co.uk
SUMMARY:Basildon C vs Hockley B (Home)
DESCRIPTION:
URL:https://basildonttc.co.uk/event/basildon-c-vs-hockley-b-home-2/
END:VEVENT
BEGIN:VEVENT
DTSTART;TZID=Europe/London:20250930T193000
DTEND;TZID=Europe/London:20250930T230000
DTSTAMP:20260422T043543
CREATED:20250825T141841Z
LAST-MODIFIED:20250825T141841Z
UID:1289-1759260600-1759273200@basildonttc.co.uk
SUMMARY:Basildon A vs Stanford A (Home)
DESCRIPTION:
URL:https://basildonttc.co.uk/event/basildon-a-vs-stanford-a-home/
END:VEVENT
BEGIN:VEVENT
DTSTART;TZID=Europe/London:20250929T193000
DTEND;TZID=Europe/London:20250929T230000
DTSTAMP:20260422T043543
CREATED:20250827T221836Z
LAST-MODIFIED:20250827T221836Z
UID:1650-1759174200-1759186800@basildonttc.co.uk
SUMMARY:Basildon C vs Stanford B (Away) - Southend League
DESCRIPTION:
URL:https://basildonttc.co.uk/event/basildon-c-vs-stanford-b-away-southend-league/
END:VEVENT
BEGIN:VEVENT
DTSTART;TZID=Europe/London:20250929T193000
DTEND;TZID=Europe/London:20250929T230000
DTSTAMP:20260422T043543
CREATED:20250827T221259Z
LAST-MODIFIED:20250827T221259Z
UID:1630-1759174200-1759186800@basildonttc.co.uk
SUMMARY:Basildon B vs Stanford B (Away) - Southend League
DESCRIPTION:
URL:https://basildonttc.co.uk/event/basildon-b-vs-stanford-b-away-southend-league/
END:VEVENT
BEGIN:VEVENT
DTSTART;TZID=Europe/London:20250929T193000
DTEND;TZID=Europe/London:20250929T230000
DTSTAMP:20260422T043543
CREATED:20250825T143420Z
LAST-MODIFIED:20250825T143420Z
UID:1313-1759174200-1759186800@basildonttc.co.uk
SUMMARY:Basildon B vs Canvey A (Home)
DESCRIPTION:
URL:https://basildonttc.co.uk/event/basildon-b-vs-canvey-a-home/
END:VEVENT
BEGIN:VEVENT
DTSTART;TZID=Europe/London:20250925T193000
DTEND;TZID=Europe/London:20250925T230000
DTSTAMP:20260422T043543
CREATED:20250827T214609Z
LAST-MODIFIED:20250827T214609Z
UID:1577-1758828600-1758841200@basildonttc.co.uk
SUMMARY:Basildon H vs Grays (Home)
DESCRIPTION:
URL:https://basildonttc.co.uk/event/basildon-h-vs-grays-home-2/
END:VEVENT
BEGIN:VEVENT
DTSTART;TZID=Europe/London:20250925T193000
DTEND;TZID=Europe/London:20250925T230000
DTSTAMP:20260422T043543
CREATED:20250827T214234Z
LAST-MODIFIED:20250827T214234Z
UID:1535-1758828600-1758841200@basildonttc.co.uk
SUMMARY:Basildon F vs Coys B (Away)
DESCRIPTION:
URL:https://basildonttc.co.uk/event/basildon-f-vs-coys-b-away/
END:VEVENT
BEGIN:VEVENT
DTSTART;TZID=Europe/London:20250924T193000
DTEND;TZID=Europe/London:20250924T230000
DTSTAMP:20260422T043543
CREATED:20250827T221836Z
LAST-MODIFIED:20250827T221836Z
UID:1649-1758742200-1758754800@basildonttc.co.uk
SUMMARY:Basildon C vs Canvey A (Home) - Southend League
DESCRIPTION:
URL:https://basildonttc.co.uk/event/basildon-c-vs-canvey-a-home-southend-league/
END:VEVENT
BEGIN:VEVENT
DTSTART;TZID=Europe/London:20250924T193000
DTEND;TZID=Europe/London:20250924T230000
DTSTAMP:20260422T043543
CREATED:20250827T221259Z
LAST-MODIFIED:20250827T221259Z
UID:1629-1758742200-1758754800@basildonttc.co.uk
SUMMARY:Basildon B vs Canvey A (Home) - Southend League
DESCRIPTION:
URL:https://basildonttc.co.uk/event/basildon-b-vs-canvey-a-home-southend-league/
END:VEVENT
BEGIN:VEVENT
DTSTART;TZID=Europe/London:20250923T193000
DTEND;TZID=Europe/London:20250923T230000
DTSTAMP:20260422T043543
CREATED:20250827T100311Z
LAST-MODIFIED:20250827T100311Z
UID:1399-1758655800-1758668400@basildonttc.co.uk
SUMMARY:Basildon E vs Canvey A (Home)
DESCRIPTION:
URL:https://basildonttc.co.uk/event/basildon-e-vs-canvey-a-home/
END:VEVENT
BEGIN:VEVENT
DTSTART;TZID=Europe/London:20250923T193000
DTEND;TZID=Europe/London:20250923T230000
DTSTAMP:20260422T043543
CREATED:20250827T100212Z
LAST-MODIFIED:20250827T100212Z
UID:1379-1758655800-1758668400@basildonttc.co.uk
SUMMARY:Basildon C vs Stanford A (Away)
DESCRIPTION:
URL:https://basildonttc.co.uk/event/basildon-c-vs-stanford-a-away-3/
END:VEVENT
BEGIN:VEVENT
DTSTART;TZID=Europe/London:20250923T193000
DTEND;TZID=Europe/London:20250923T230000
DTSTAMP:20260422T043543
CREATED:20250825T143420Z
LAST-MODIFIED:20250825T143420Z
UID:1312-1758655800-1758668400@basildonttc.co.uk
SUMMARY:Basildon B vs Coys A (Away)
DESCRIPTION:
URL:https://basildonttc.co.uk/event/basildon-b-vs-coys-a-away-3/
END:VEVENT
BEGIN:VEVENT
DTSTART;TZID=Europe/London:20250922T193000
DTEND;TZID=Europe/London:20250922T230000
DTSTAMP:20260422T043543
CREATED:20250827T220829Z
LAST-MODIFIED:20250827T220829Z
UID:1605-1758569400-1758582000@basildonttc.co.uk
SUMMARY:Basildon A vs Brand Identity (Away) - Southend League
DESCRIPTION:
URL:https://basildonttc.co.uk/event/basildon-a-vs-brand-identity-away-southend-league/
END:VEVENT
BEGIN:VEVENT
DTSTART;TZID=Europe/London:20250922T193000
DTEND;TZID=Europe/London:20250922T230000
DTSTAMP:20260422T043543
CREATED:20250825T141841Z
LAST-MODIFIED:20250825T141841Z
UID:1288-1758569400-1758582000@basildonttc.co.uk
SUMMARY:Basildon A vs Northlands Park (Away)
DESCRIPTION:
URL:https://basildonttc.co.uk/event/basildon-a-vs-northlands-park-away/
END:VEVENT
BEGIN:VEVENT
DTSTART;TZID=Europe/London:20250918T193000
DTEND;TZID=Europe/London:20250918T230000
DTSTAMP:20260422T043543
CREATED:20250827T214609Z
LAST-MODIFIED:20250827T214609Z
UID:1576-1758223800-1758236400@basildonttc.co.uk
SUMMARY:Basildon H vs Wickford Community Centre (Away)
DESCRIPTION:
URL:https://basildonttc.co.uk/event/basildon-h-vs-wickford-community-centre-away/
END:VEVENT
BEGIN:VEVENT
DTSTART;TZID=Europe/London:20250918T193000
DTEND;TZID=Europe/London:20250918T230000
DTSTAMP:20260422T043543
CREATED:20250827T214234Z
LAST-MODIFIED:20250827T214234Z
UID:1534-1758223800-1758236400@basildonttc.co.uk
SUMMARY:Basildon F vs Basildon G (Home)
DESCRIPTION:
URL:https://basildonttc.co.uk/event/basildon-f-vs-basildon-g-home-2/
END:VEVENT
BEGIN:VEVENT
DTSTART;TZID=Europe/London:20250918T193000
DTEND;TZID=Europe/London:20250918T230000
DTSTAMP:20260422T043543
CREATED:20250827T100311Z
LAST-MODIFIED:20250827T100311Z
UID:1398-1758223800-1758236400@basildonttc.co.uk
SUMMARY:Basildon E vs Coys A (Away)
DESCRIPTION:
URL:https://basildonttc.co.uk/event/basildon-e-vs-coys-a-away/
END:VEVENT
BEGIN:VEVENT
DTSTART;TZID=Europe/London:20250918T193000
DTEND;TZID=Europe/London:20250918T230000
DTSTAMP:20260422T043543
CREATED:20250825T143420Z
LAST-MODIFIED:20250825T143420Z
UID:1311-1758223800-1758236400@basildonttc.co.uk
SUMMARY:Basildon B vs Basildon D (Home)
DESCRIPTION:
URL:https://basildonttc.co.uk/event/basildon-b-vs-basildon-d-home/
END:VEVENT
BEGIN:VEVENT
DTSTART;TZID=Europe/London:20250917T193000
DTEND;TZID=Europe/London:20250917T230000
DTSTAMP:20260422T043543
CREATED:20250827T221836Z
LAST-MODIFIED:20250827T221836Z
UID:1648-1758137400-1758150000@basildonttc.co.uk
SUMMARY:Basildon C vs Mapledene (Away) - Southend League
DESCRIPTION:
URL:https://basildonttc.co.uk/event/basildon-c-vs-mapledene-away-southend-league/
END:VEVENT
BEGIN:VEVENT
DTSTART;TZID=Europe/London:20250917T193000
DTEND;TZID=Europe/London:20250917T230000
DTSTAMP:20260422T043543
CREATED:20250827T221259Z
LAST-MODIFIED:20250827T221259Z
UID:1628-1758137400-1758150000@basildonttc.co.uk
SUMMARY:Basildon B vs Mapledene (Away) - Southend League
DESCRIPTION:
URL:https://basildonttc.co.uk/event/basildon-b-vs-mapledene-away-southend-league/
END:VEVENT
BEGIN:VEVENT
DTSTART;TZID=Europe/London:20250917T193000
DTEND;TZID=Europe/London:20250917T230000
DTSTAMP:20260422T043543
CREATED:20250827T220829Z
LAST-MODIFIED:20250827T220829Z
UID:1604-1758137400-1758150000@basildonttc.co.uk
SUMMARY:Basildon A vs Matchpoint A (Home) - Southend League
DESCRIPTION:
URL:https://basildonttc.co.uk/event/basildon-a-vs-matchpoint-a-home-southend-league/
END:VEVENT
BEGIN:VEVENT
DTSTART;TZID=Europe/London:20250916T193000
DTEND;TZID=Europe/London:20250916T230000
DTSTAMP:20260422T043543
CREATED:20250827T100212Z
LAST-MODIFIED:20250827T100212Z
UID:1378-1758051000-1758063600@basildonttc.co.uk
SUMMARY:Basildon C vs Northlands Park (Home)
DESCRIPTION:
URL:https://basildonttc.co.uk/event/basildon-c-vs-northlands-park-home/
END:VEVENT
BEGIN:VEVENT
DTSTART;TZID=Europe/London:20250916T193000
DTEND;TZID=Europe/London:20250916T230000
DTSTAMP:20260422T043543
CREATED:20250825T141840Z
LAST-MODIFIED:20250825T141840Z
UID:1287-1758051000-1758063600@basildonttc.co.uk
SUMMARY:Basildon A vs Selbourne (Home)
DESCRIPTION:
URL:https://basildonttc.co.uk/event/basildon-a-vs-selbourne-home/
END:VEVENT
BEGIN:VEVENT
DTSTART;TZID=Europe/London:20250616T193000
DTEND;TZID=Europe/London:20250616T223000
DTSTAMP:20260422T043543
CREATED:20250228T022606Z
LAST-MODIFIED:20250228T022606Z
UID:1126-1750102200-1750113000@basildonttc.co.uk
SUMMARY:Basildon Table Tennis League: AGM
DESCRIPTION:
URL:https://basildonttc.co.uk/event/basildon-table-tennis-league-agm/
LOCATION:Northlands Park
END:VEVENT
BEGIN:VEVENT
DTSTART;TZID=Europe/London:20250531T193000
DTEND;TZID=Europe/London:20250531T230000
DTSTAMP:20260422T043543
CREATED:20250228T022529Z
LAST-MODIFIED:20250228T022529Z
UID:1123-1748719800-1748732400@basildonttc.co.uk
SUMMARY:Basildon Table Tennis League: Presentation night
DESCRIPTION:
URL:https://basildonttc.co.uk/event/basildon-table-tennis-league-presentation-night/
LOCATION:Northlands Park
END:VEVENT
BEGIN:VEVENT
DTSTART;TZID=Europe/London:20250515T193000
DTEND;TZID=Europe/London:20250515T230000
DTSTAMP:20260422T043543
CREATED:20250228T022437Z
LAST-MODIFIED:20250319T130645Z
UID:1120-1747337400-1747350000@basildonttc.co.uk
SUMMARY:Basildon Closed Championships (Finals Night)
DESCRIPTION:
URL:https://basildonttc.co.uk/event/basildon-closed-championships-finals-night/
LOCATION:Lee Chapel South Community Centre\, The Knare\, Lee Chapel\, Basildon\, SS15 5HL\, United Kingdom
END:VEVENT
BEGIN:VEVENT
DTSTART;TZID=Europe/London:20250511T090000
DTEND;TZID=Europe/London:20250511T170000
DTSTAMP:20260422T043543
CREATED:20250228T022244Z
LAST-MODIFIED:20250228T022244Z
UID:1118-1746954000-1746982800@basildonttc.co.uk
SUMMARY:Basildon Closed Championships (Day 2)
DESCRIPTION:Mens Singles\nWomens Singles\nMens Doubles\nWomens Doubles\nMixed Doubles\nHandicap Singles
URL:https://basildonttc.co.uk/event/basildon-closed-championships-day-2/
LOCATION:Sweyne Park School\, Rayleigh
END:VEVENT
BEGIN:VEVENT
DTSTART;TZID=Europe/London:20250510T120000
DTEND;TZID=Europe/London:20250510T170000
DTSTAMP:20260422T043543
CREATED:20250228T022135Z
LAST-MODIFIED:20250228T022135Z
UID:1115-1746878400-1746896400@basildonttc.co.uk
SUMMARY:Basildon Closed Championships (Day 1)
DESCRIPTION:Prem Restricted\nDiv 1 Restricted\nDiv 2 Restricted\nVets O/40 Singles\nVets O/60 Singles\nVets Doubles
URL:https://basildonttc.co.uk/event/basildon-closed-championships-day-1/
LOCATION:Sweyne Park School\, Rayleigh
END:VEVENT
BEGIN:VEVENT
DTSTART;TZID=Europe/London:20250422T193000
DTEND;TZID=Europe/London:20250422T230000
DTSTAMP:20260422T043543
CREATED:20250403T091039Z
LAST-MODIFIED:20250409T001548Z
UID:1154-1745350200-1745362800@basildonttc.co.uk
SUMMARY:Basildon A vs Northlands Park B – Prem Div Cup Final
DESCRIPTION:
URL:https://basildonttc.co.uk/event/basildon-a-vs-northlands-park-b-prem-div-cup-final/
LOCATION:Lee Chapel South Community Centre\, The Knare\, Lee Chapel\, Basildon\, SS15 5HL\, United Kingdom
END:VEVENT
END:VCALENDAR