BEGIN:VCALENDAR
VERSION:2.0
PRODID:-//Basildon Table Tennis Club - ECPv6.15.17.1//NONSGML v1.0//EN
CALSCALE:GREGORIAN
METHOD:PUBLISH
X-WR-CALNAME:Basildon Table Tennis Club
X-ORIGINAL-URL:https://basildonttc.co.uk
X-WR-CALDESC:Events for Basildon Table Tennis Club
REFRESH-INTERVAL;VALUE=DURATION:PT1H
X-Robots-Tag:noindex
X-PUBLISHED-TTL:PT1H
BEGIN:VTIMEZONE
TZID:Europe/London
BEGIN:DAYLIGHT
TZOFFSETFROM:+0000
TZOFFSETTO:+0100
TZNAME:BST
DTSTART:20230326T010000
END:DAYLIGHT
BEGIN:STANDARD
TZOFFSETFROM:+0100
TZOFFSETTO:+0000
TZNAME:GMT
DTSTART:20231029T010000
END:STANDARD
BEGIN:DAYLIGHT
TZOFFSETFROM:+0000
TZOFFSETTO:+0100
TZNAME:BST
DTSTART:20240331T010000
END:DAYLIGHT
BEGIN:STANDARD
TZOFFSETFROM:+0100
TZOFFSETTO:+0000
TZNAME:GMT
DTSTART:20241027T010000
END:STANDARD
BEGIN:DAYLIGHT
TZOFFSETFROM:+0000
TZOFFSETTO:+0100
TZNAME:BST
DTSTART:20250330T010000
END:DAYLIGHT
BEGIN:STANDARD
TZOFFSETFROM:+0100
TZOFFSETTO:+0000
TZNAME:GMT
DTSTART:20251026T010000
END:STANDARD
BEGIN:DAYLIGHT
TZOFFSETFROM:+0000
TZOFFSETTO:+0100
TZNAME:BST
DTSTART:20260329T010000
END:DAYLIGHT
BEGIN:STANDARD
TZOFFSETFROM:+0100
TZOFFSETTO:+0000
TZNAME:GMT
DTSTART:20261025T010000
END:STANDARD
END:VTIMEZONE
BEGIN:VEVENT
DTSTART;TZID=Europe/London:20250515T193000
DTEND;TZID=Europe/London:20250515T230000
DTSTAMP:20260422T103959
CREATED:20250228T022437Z
LAST-MODIFIED:20250319T130645Z
UID:1120-1747337400-1747350000@basildonttc.co.uk
SUMMARY:Basildon Closed Championships (Finals Night)
DESCRIPTION:
URL:https://basildonttc.co.uk/event/basildon-closed-championships-finals-night/
LOCATION:Lee Chapel South Community Centre\, The Knare\, Lee Chapel\, Basildon\, SS15 5HL\, United Kingdom
END:VEVENT
BEGIN:VEVENT
DTSTART;TZID=Europe/London:20250511T090000
DTEND;TZID=Europe/London:20250511T170000
DTSTAMP:20260422T103959
CREATED:20250228T022244Z
LAST-MODIFIED:20250228T022244Z
UID:1118-1746954000-1746982800@basildonttc.co.uk
SUMMARY:Basildon Closed Championships (Day 2)
DESCRIPTION:Mens Singles\nWomens Singles\nMens Doubles\nWomens Doubles\nMixed Doubles\nHandicap Singles
URL:https://basildonttc.co.uk/event/basildon-closed-championships-day-2/
LOCATION:Sweyne Park School\, Rayleigh
END:VEVENT
BEGIN:VEVENT
DTSTART;TZID=Europe/London:20250510T120000
DTEND;TZID=Europe/London:20250510T170000
DTSTAMP:20260422T103959
CREATED:20250228T022135Z
LAST-MODIFIED:20250228T022135Z
UID:1115-1746878400-1746896400@basildonttc.co.uk
SUMMARY:Basildon Closed Championships (Day 1)
DESCRIPTION:Prem Restricted\nDiv 1 Restricted\nDiv 2 Restricted\nVets O/40 Singles\nVets O/60 Singles\nVets Doubles
URL:https://basildonttc.co.uk/event/basildon-closed-championships-day-1/
LOCATION:Sweyne Park School\, Rayleigh
END:VEVENT
BEGIN:VEVENT
DTSTART;TZID=Europe/London:20250422T193000
DTEND;TZID=Europe/London:20250422T230000
DTSTAMP:20260422T103959
CREATED:20250403T091039Z
LAST-MODIFIED:20250409T001548Z
UID:1154-1745350200-1745362800@basildonttc.co.uk
SUMMARY:Basildon A vs Northlands Park B – Prem Div Cup Final
DESCRIPTION:
URL:https://basildonttc.co.uk/event/basildon-a-vs-northlands-park-b-prem-div-cup-final/
LOCATION:Lee Chapel South Community Centre\, The Knare\, Lee Chapel\, Basildon\, SS15 5HL\, United Kingdom
END:VEVENT
BEGIN:VEVENT
DTSTART;TZID=Europe/London:20250410T193000
DTEND;TZID=Europe/London:20250410T230000
DTSTAMP:20260422T103959
CREATED:20250329T005708Z
LAST-MODIFIED:20250329T005708Z
UID:1151-1744313400-1744326000@basildonttc.co.uk
SUMMARY:Basildon F vs Basildon A – Handicap Cup Final
DESCRIPTION:
URL:https://basildonttc.co.uk/event/basildon-f-vs-basildon-a-handicap-cup-final/
LOCATION:Lee Chapel South Community Centre\, The Knare\, Lee Chapel\, Basildon\, SS15 5HL\, United Kingdom
END:VEVENT
BEGIN:VEVENT
DTSTART;TZID=Europe/London:20250401T193000
DTEND;TZID=Europe/London:20250401T230000
DTSTAMP:20260422T103959
CREATED:20250228T023004Z
LAST-MODIFIED:20250228T023004Z
UID:1131-1743535800-1743548400@basildonttc.co.uk
SUMMARY:Basildon H vs Hadleigh Forum (Divisional Cup)
DESCRIPTION:
URL:https://basildonttc.co.uk/event/basildon-h-vs-hadleigh-forum-divisional-cup/
END:VEVENT
BEGIN:VEVENT
DTSTART;TZID=Europe/London:20250401T193000
DTEND;TZID=Europe/London:20250401T230000
DTSTAMP:20260422T103959
CREATED:20250228T022842Z
LAST-MODIFIED:20250228T022842Z
UID:1129-1743535800-1743548400@basildonttc.co.uk
SUMMARY:Basildon C vs COYS (Divisional Cup)
DESCRIPTION:
URL:https://basildonttc.co.uk/event/basildon-c-vs-coys-divisional-cup/
END:VEVENT
BEGIN:VEVENT
DTSTART;TZID=Europe/London:20250401T193000
DTEND;TZID=Europe/London:20250401T230000
DTSTAMP:20260422T103959
CREATED:20250112T020406Z
LAST-MODIFIED:20250112T020406Z
UID:1062-1743535800-1743548400@basildonttc.co.uk
SUMMARY:Basildon A vs Basildon B (Divisional Cup)
DESCRIPTION:
URL:https://basildonttc.co.uk/event/basildon-a-vs-basildon-b-divisional-cup/
END:VEVENT
BEGIN:VEVENT
DTSTART;TZID=Europe/London:20250327T193000
DTEND;TZID=Europe/London:20250327T230000
DTSTAMP:20260422T103959
CREATED:20250308T003641Z
LAST-MODIFIED:20250308T003641Z
UID:1137-1743103800-1743116400@basildonttc.co.uk
SUMMARY:Basildon G vs Basildon F – Handicap Cup Semi-Final
DESCRIPTION:
URL:https://basildonttc.co.uk/event/basildon-g-vs-basildon-f-handicap-cup-semi-final/
END:VEVENT
BEGIN:VEVENT
DTSTART;TZID=Europe/London:20250325T193000
DTEND;TZID=Europe/London:20250325T230000
DTSTAMP:20260422T103959
CREATED:20250308T003600Z
LAST-MODIFIED:20250308T003600Z
UID:1135-1742931000-1742943600@basildonttc.co.uk
SUMMARY:Basildon A vs Basildon D – Handicap Cup Semi-Final
DESCRIPTION:
URL:https://basildonttc.co.uk/event/basildon-a-vs-basildon-d-handicap-cup-semi-final/
END:VEVENT
BEGIN:VEVENT
DTSTART;TZID=Europe/London:20250221T193000
DTEND;TZID=Europe/London:20250221T230000
DTSTAMP:20260422T103959
CREATED:20250112T021144Z
LAST-MODIFIED:20250213T214915Z
UID:1070-1740166200-1740178800@basildonttc.co.uk
SUMMARY:Basildon A vs Hadleigh Forum (Away) – Handicap Cup Quarter-Final
DESCRIPTION:
URL:https://basildonttc.co.uk/event/basildon-a-vs-hadleigh-forum-away-handicap-cup-quarter-final/
END:VEVENT
BEGIN:VEVENT
DTSTART;TZID=Europe/London:20250213T193000
DTEND;TZID=Europe/London:20250213T230000
DTSTAMP:20260422T103959
CREATED:20250112T021124Z
LAST-MODIFIED:20250112T021124Z
UID:1068-1739475000-1739487600@basildonttc.co.uk
SUMMARY:Basildon F vs Basildon E – Handicap Cup Quarter-Final
DESCRIPTION:
URL:https://basildonttc.co.uk/event/basildon-f-vs-basildon-e-handicap-cup-quarter-final/
END:VEVENT
BEGIN:VEVENT
DTSTART;TZID=Europe/London:20250213T193000
DTEND;TZID=Europe/London:20250213T230000
DTSTAMP:20260422T103959
CREATED:20250112T021104Z
LAST-MODIFIED:20250112T021104Z
UID:1066-1739475000-1739487600@basildonttc.co.uk
SUMMARY:Basildon D vs Stanford D (Home) – Handicap Cup Quarter-Final
DESCRIPTION:
URL:https://basildonttc.co.uk/event/basildon-d-vs-stanford-d-home-handicap-cup-quarter-final/
END:VEVENT
BEGIN:VEVENT
DTSTART;TZID=Europe/London:20250211T193000
DTEND;TZID=Europe/London:20250211T230000
DTSTAMP:20260422T103959
CREATED:20250112T021042Z
LAST-MODIFIED:20250112T021042Z
UID:1064-1739302200-1739314800@basildonttc.co.uk
SUMMARY:Basildon G vs Stanford A (Away) – Handicap Cup Quarter-Final
DESCRIPTION:
URL:https://basildonttc.co.uk/event/basildon-g-vs-stanford-a-away-handicap-cup-quarter-final/
END:VEVENT
BEGIN:VEVENT
DTSTART;TZID=Europe/London:20250109T193000
DTEND;TZID=Europe/London:20250109T230000
DTSTAMP:20260422T103959
CREATED:20241129T021448Z
LAST-MODIFIED:20241129T021448Z
UID:970-1736451000-1736463600@basildonttc.co.uk
SUMMARY:Basildon H vs Basildon G (Home) - Divisional Cup
DESCRIPTION:
URL:https://basildonttc.co.uk/event/basildon-h-vs-basildon-g-home-divisional-cup/
END:VEVENT
BEGIN:VEVENT
DTSTART;TZID=Europe/London:20250108T193000
DTEND;TZID=Europe/London:20250108T230000
DTSTAMP:20260422T103959
CREATED:20241129T021400Z
LAST-MODIFIED:20241129T021400Z
UID:968-1736364600-1736377200@basildonttc.co.uk
SUMMARY:Basildon E vs COYS B (Away) - Divisional Cup
DESCRIPTION:
URL:https://basildonttc.co.uk/event/basildon-e-vs-coys-b-away-divisional-cup/
END:VEVENT
BEGIN:VEVENT
DTSTART;TZID=Europe/London:20250107T193000
DTEND;TZID=Europe/London:20250107T230000
DTSTAMP:20260422T103959
CREATED:20241129T021205Z
LAST-MODIFIED:20241129T021205Z
UID:966-1736278200-1736290800@basildonttc.co.uk
SUMMARY:Basildon C vs Wickford Community Centre (Home) - Divisional Cup
DESCRIPTION:
URL:https://basildonttc.co.uk/event/basildon-c-vs-wickford-community-centre-home-divisional-cup/
END:VEVENT
BEGIN:VEVENT
DTSTART;TZID=Europe/London:20250107T193000
DTEND;TZID=Europe/London:20250107T230000
DTSTAMP:20260422T103959
CREATED:20241127T022359Z
LAST-MODIFIED:20241127T022359Z
UID:964-1736278200-1736290800@basildonttc.co.uk
SUMMARY:Basildon A vs Northlands Park A (Home) - Divisional Cup
DESCRIPTION:
URL:https://basildonttc.co.uk/event/basildon-a-vs-northlands-park-a-home-divisional-cup/
END:VEVENT
BEGIN:VEVENT
DTSTART;TZID=Europe/London:20250106T193000
DTEND;TZID=Europe/London:20250106T230000
DTSTAMP:20260422T103959
CREATED:20241129T021830Z
LAST-MODIFIED:20241129T021830Z
UID:972-1736191800-1736204400@basildonttc.co.uk
SUMMARY:Basildon F vs Canvey (Away) - Divisional Cup
DESCRIPTION:
URL:https://basildonttc.co.uk/event/basildon-f-vs-canvey-away-divisional-cup/
END:VEVENT
BEGIN:VEVENT
DTSTART;TZID=Europe/London:20250102T193000
DTEND;TZID=Europe/London:20250102T230000
DTSTAMP:20260422T103959
CREATED:20241219T132341Z
LAST-MODIFIED:20241219T132341Z
UID:1024-1735846200-1735858800@basildonttc.co.uk
SUMMARY:Basildon B (Home) - Southend Handicap Cup
DESCRIPTION:
URL:https://basildonttc.co.uk/event/basildon-b-home-southend-handicap-cup/
END:VEVENT
BEGIN:VEVENT
DTSTART;TZID=Europe/London:20241010T193000
DTEND;TZID=Europe/London:20241010T230000
DTSTAMP:20260422T103959
CREATED:20240821T233402Z
LAST-MODIFIED:20240821T233609Z
UID:426-1728588600-1728601200@basildonttc.co.uk
SUMMARY:Basildon G vs Northlands Park A (Away) - Handicap Cup preliminary round
DESCRIPTION:
URL:https://basildonttc.co.uk/event/basildon-g-vs-northlands-park-a-away-handicap-cup-preliminary-round/
END:VEVENT
BEGIN:VEVENT
DTSTART;TZID=Europe/London:20241008T193000
DTEND;TZID=Europe/London:20241008T230000
DTSTAMP:20260422T103959
CREATED:20240821T233540Z
LAST-MODIFIED:20240821T233540Z
UID:428-1728415800-1728428400@basildonttc.co.uk
SUMMARY:Basildon C vs Hockley A (Home) - Handicap Cup preliminary round
DESCRIPTION:
URL:https://basildonttc.co.uk/event/basildon-c-vs-hockley-a-home-handicap-cup-preliminary-round/
END:VEVENT
END:VCALENDAR