BEGIN:VCALENDAR
VERSION:2.0
PRODID:-//Basildon Table Tennis Club - ECPv6.15.17.1//NONSGML v1.0//EN
CALSCALE:GREGORIAN
METHOD:PUBLISH
X-WR-CALNAME:Basildon Table Tennis Club
X-ORIGINAL-URL:https://basildonttc.co.uk
X-WR-CALDESC:Events for Basildon Table Tennis Club
REFRESH-INTERVAL;VALUE=DURATION:PT1H
X-Robots-Tag:noindex
X-PUBLISHED-TTL:PT1H
BEGIN:VTIMEZONE
TZID:Europe/London
BEGIN:DAYLIGHT
TZOFFSETFROM:+0000
TZOFFSETTO:+0100
TZNAME:BST
DTSTART:20240331T010000
END:DAYLIGHT
BEGIN:STANDARD
TZOFFSETFROM:+0100
TZOFFSETTO:+0000
TZNAME:GMT
DTSTART:20241027T010000
END:STANDARD
BEGIN:DAYLIGHT
TZOFFSETFROM:+0000
TZOFFSETTO:+0100
TZNAME:BST
DTSTART:20250330T010000
END:DAYLIGHT
BEGIN:STANDARD
TZOFFSETFROM:+0100
TZOFFSETTO:+0000
TZNAME:GMT
DTSTART:20251026T010000
END:STANDARD
BEGIN:DAYLIGHT
TZOFFSETFROM:+0000
TZOFFSETTO:+0100
TZNAME:BST
DTSTART:20260329T010000
END:DAYLIGHT
BEGIN:STANDARD
TZOFFSETFROM:+0100
TZOFFSETTO:+0000
TZNAME:GMT
DTSTART:20261025T010000
END:STANDARD
END:VTIMEZONE
BEGIN:VEVENT
DTSTART;TZID=Europe/London:20251104T193000
DTEND;TZID=Europe/London:20251104T230000
DTSTAMP:20260420T082125
CREATED:20250827T100216Z
LAST-MODIFIED:20250827T100216Z
UID:1383-1762284600-1762297200@basildonttc.co.uk
SUMMARY:Basildon C vs Coys A (Away)
DESCRIPTION:
URL:https://basildonttc.co.uk/event/basildon-c-vs-coys-a-away/
END:VEVENT
BEGIN:VEVENT
DTSTART;TZID=Europe/London:20251104T193000
DTEND;TZID=Europe/London:20251104T230000
DTSTAMP:20260420T082125
CREATED:20250825T143424Z
LAST-MODIFIED:20250825T143424Z
UID:1316-1762284600-1762297200@basildonttc.co.uk
SUMMARY:Basildon B vs Selbourne (Away)
DESCRIPTION:
URL:https://basildonttc.co.uk/event/basildon-b-vs-selbourne-away-4/
END:VEVENT
BEGIN:VEVENT
DTSTART;TZID=Europe/London:20251104T193000
DTEND;TZID=Europe/London:20251104T230000
DTSTAMP:20260420T082125
CREATED:20250825T141847Z
LAST-MODIFIED:20250825T141847Z
UID:1293-1762284600-1762297200@basildonttc.co.uk
SUMMARY:Basildon A vs Basildon D (Home)
DESCRIPTION:
URL:https://basildonttc.co.uk/event/basildon-a-vs-basildon-d-home/
END:VEVENT
BEGIN:VEVENT
DTSTART;TZID=Europe/London:20251103T193000
DTEND;TZID=Europe/London:20251103T230000
DTSTAMP:20260420T082125
CREATED:20250827T100312Z
LAST-MODIFIED:20250827T100312Z
UID:1402-1762198200-1762210800@basildonttc.co.uk
SUMMARY:Basildon E vs Northlands Park (Away)
DESCRIPTION:
URL:https://basildonttc.co.uk/event/basildon-e-vs-northlands-park-away/
END:VEVENT
BEGIN:VEVENT
DTSTART;TZID=Europe/London:20251030T193000
DTEND;TZID=Europe/London:20251030T230000
DTSTAMP:20260420T082125
CREATED:20250827T221840Z
LAST-MODIFIED:20250827T221840Z
UID:1654-1761852600-1761865200@basildonttc.co.uk
SUMMARY:Basildon C vs Hadleigh Forum C (Away) - Southend League
DESCRIPTION:
URL:https://basildonttc.co.uk/event/basildon-c-vs-hadleigh-forum-c-away-southend-league/
END:VEVENT
BEGIN:VEVENT
DTSTART;TZID=Europe/London:20251030T193000
DTEND;TZID=Europe/London:20251030T230000
DTSTAMP:20260420T082125
CREATED:20250827T221303Z
LAST-MODIFIED:20250827T221303Z
UID:1634-1761852600-1761865200@basildonttc.co.uk
SUMMARY:Basildon B vs Hadleigh Forum C (Away) - Southend League
DESCRIPTION:
URL:https://basildonttc.co.uk/event/basildon-b-vs-hadleigh-forum-c-away-southend-league/
END:VEVENT
BEGIN:VEVENT
DTSTART;TZID=Europe/London:20251030T193000
DTEND;TZID=Europe/London:20251030T230000
DTSTAMP:20260420T082125
CREATED:20250827T214235Z
LAST-MODIFIED:20250827T214235Z
UID:1538-1761852600-1761865200@basildonttc.co.uk
SUMMARY:Basildon F vs Basildon H (Away)
DESCRIPTION:
URL:https://basildonttc.co.uk/event/basildon-f-vs-basildon-h-away-3/
END:VEVENT
BEGIN:VEVENT
DTSTART;TZID=Europe/London:20251030T193000
DTEND;TZID=Europe/London:20251030T230000
DTSTAMP:20260420T082125
CREATED:20250827T100213Z
LAST-MODIFIED:20250827T100213Z
UID:1382-1761852600-1761865200@basildonttc.co.uk
SUMMARY:Basildon C vs Basildon D (Home)
DESCRIPTION:
URL:https://basildonttc.co.uk/event/basildon-c-vs-basildon-d-home-3/
END:VEVENT
BEGIN:VEVENT
DTSTART;TZID=Europe/London:20251029T193000
DTEND;TZID=Europe/London:20251029T230000
DTSTAMP:20260420T082125
CREATED:20250827T220833Z
LAST-MODIFIED:20250827T220833Z
UID:1610-1761766200-1761778800@basildonttc.co.uk
SUMMARY:Basildon A vs Hockley A (Home) - Southend League
DESCRIPTION:
URL:https://basildonttc.co.uk/event/basildon-a-vs-hockley-a-home-southend-league/
END:VEVENT
BEGIN:VEVENT
DTSTART;TZID=Europe/London:20251028T193000
DTEND;TZID=Europe/London:20251028T230000
DTSTAMP:20260420T082125
CREATED:20250827T214416Z
LAST-MODIFIED:20250827T214416Z
UID:1558-1761679800-1761692400@basildonttc.co.uk
SUMMARY:Basildon G vs Invicta (Away)
DESCRIPTION:
URL:https://basildonttc.co.uk/event/basildon-g-vs-invicta-away/
END:VEVENT
BEGIN:VEVENT
DTSTART;TZID=Europe/London:20251028T193000
DTEND;TZID=Europe/London:20251028T230000
DTSTAMP:20260420T082125
CREATED:20250827T100312Z
LAST-MODIFIED:20250827T100312Z
UID:1401-1761679800-1761692400@basildonttc.co.uk
SUMMARY:Basildon E vs Selbourne (Home)
DESCRIPTION:
URL:https://basildonttc.co.uk/event/basildon-e-vs-selbourne-home/
END:VEVENT
BEGIN:VEVENT
DTSTART;TZID=Europe/London:20251028T193000
DTEND;TZID=Europe/London:20251028T230000
DTSTAMP:20260420T082125
CREATED:20250825T141847Z
LAST-MODIFIED:20250825T141847Z
UID:1292-1761679800-1761692400@basildonttc.co.uk
SUMMARY:Basildon A vs Basildon B (Away)
DESCRIPTION:
URL:https://basildonttc.co.uk/event/basildon-a-vs-basildon-b-away-3/
END:VEVENT
BEGIN:VEVENT
DTSTART;TZID=Europe/London:20251023T193000
DTEND;TZID=Europe/London:20251023T230000
DTSTAMP:20260420T082125
CREATED:20250827T214235Z
LAST-MODIFIED:20250827T214235Z
UID:1537-1761247800-1761260400@basildonttc.co.uk
SUMMARY:Basildon F vs Invicta (Home)
DESCRIPTION:
URL:https://basildonttc.co.uk/event/basildon-f-vs-invicta-home/
END:VEVENT
BEGIN:VEVENT
DTSTART;TZID=Europe/London:20251022T193000
DTEND;TZID=Europe/London:20251022T230000
DTSTAMP:20260420T082125
CREATED:20250827T221840Z
LAST-MODIFIED:20250827T221840Z
UID:1653-1761161400-1761174000@basildonttc.co.uk
SUMMARY:Basildon C vs Hockley B (Home) - Southend League
DESCRIPTION:
URL:https://basildonttc.co.uk/event/basildon-c-vs-hockley-b-home-southend-league/
END:VEVENT
BEGIN:VEVENT
DTSTART;TZID=Europe/London:20251022T193000
DTEND;TZID=Europe/London:20251022T230000
DTSTAMP:20260420T082125
CREATED:20250827T221302Z
LAST-MODIFIED:20250827T221302Z
UID:1633-1761161400-1761174000@basildonttc.co.uk
SUMMARY:Basildon B vs Hockley B (Home) - Southend League
DESCRIPTION:
URL:https://basildonttc.co.uk/event/basildon-b-vs-hockley-b-home-southend-league/
END:VEVENT
BEGIN:VEVENT
DTSTART;TZID=Europe/London:20251022T193000
DTEND;TZID=Europe/London:20251022T230000
DTSTAMP:20260420T082125
CREATED:20250827T220833Z
LAST-MODIFIED:20250827T220833Z
UID:1609-1761161400-1761174000@basildonttc.co.uk
SUMMARY:Basildon A vs Rawreth B (Away) - Southend League
DESCRIPTION:
URL:https://basildonttc.co.uk/event/basildon-a-vs-rawreth-b-away-southend-league/
END:VEVENT
BEGIN:VEVENT
DTSTART;TZID=Europe/London:20251021T193000
DTEND;TZID=Europe/London:20251021T230000
DTSTAMP:20260420T082125
CREATED:20250827T214610Z
LAST-MODIFIED:20250827T214610Z
UID:1580-1761075000-1761087600@basildonttc.co.uk
SUMMARY:Basildon H vs Hadleigh Forum (Away)
DESCRIPTION:
URL:https://basildonttc.co.uk/event/basildon-h-vs-hadleigh-forum-away-3/
END:VEVENT
BEGIN:VEVENT
DTSTART;TZID=Europe/London:20251021T193000
DTEND;TZID=Europe/London:20251021T230000
DTSTAMP:20260420T082125
CREATED:20250827T093625Z
LAST-MODIFIED:20250827T094823Z
UID:1335-1761075000-1761087600@basildonttc.co.uk
SUMMARY:Basildon D vs Hockley A (Away)
DESCRIPTION:
URL:https://basildonttc.co.uk/event/basildon-d-vs-hockley-a-away/
END:VEVENT
BEGIN:VEVENT
DTSTART;TZID=Europe/London:20251021T193000
DTEND;TZID=Europe/London:20251021T230000
DTSTAMP:20260420T082125
CREATED:20250825T143420Z
LAST-MODIFIED:20250825T143420Z
UID:1315-1761075000-1761087600@basildonttc.co.uk
SUMMARY:Basildon B vs Basildon C (Home)
DESCRIPTION:
URL:https://basildonttc.co.uk/event/basildon-b-vs-basildon-c-home/
END:VEVENT
BEGIN:VEVENT
DTSTART;TZID=Europe/London:20251021T193000
DTEND;TZID=Europe/London:20251021T230000
DTSTAMP:20260420T082125
CREATED:20250825T141841Z
LAST-MODIFIED:20250825T141841Z
UID:1291-1761075000-1761087600@basildonttc.co.uk
SUMMARY:Basildon A vs Basildon E (Home)
DESCRIPTION:
URL:https://basildonttc.co.uk/event/basildon-a-vs-basildon-e-home/
END:VEVENT
BEGIN:VEVENT
DTSTART;TZID=Europe/London:20251016T193000
DTEND;TZID=Europe/London:20251016T230000
DTSTAMP:20260420T082125
CREATED:20250827T214610Z
LAST-MODIFIED:20250827T214610Z
UID:1579-1760643000-1760655600@basildonttc.co.uk
SUMMARY:Basildon H vs Stanford B (Home)
DESCRIPTION:
URL:https://basildonttc.co.uk/event/basildon-h-vs-stanford-b-home/
END:VEVENT
BEGIN:VEVENT
DTSTART;TZID=Europe/London:20251016T193000
DTEND;TZID=Europe/London:20251016T230000
DTSTAMP:20260420T082125
CREATED:20250827T093625Z
LAST-MODIFIED:20250827T094623Z
UID:1334-1760643000-1760655600@basildonttc.co.uk
SUMMARY:Basildon D vs Canvey A (Home)
DESCRIPTION:
URL:https://basildonttc.co.uk/event/basildon-d-vs-canvey-a-home/
END:VEVENT
BEGIN:VEVENT
DTSTART;TZID=Europe/London:20251015T193000
DTEND;TZID=Europe/London:20251015T230000
DTSTAMP:20260420T082125
CREATED:20250827T220830Z
LAST-MODIFIED:20250827T220830Z
UID:1608-1760556600-1760569200@basildonttc.co.uk
SUMMARY:Basildon A vs Hadleigh Forum A (Home) - Southend League
DESCRIPTION:
URL:https://basildonttc.co.uk/event/basildon-a-vs-hadleigh-forum-a-home-southend-league/
END:VEVENT
BEGIN:VEVENT
DTSTART;TZID=Europe/London:20251014T193000
DTEND;TZID=Europe/London:20251014T230000
DTSTAMP:20260420T082125
CREATED:20250827T100213Z
LAST-MODIFIED:20250827T100213Z
UID:1381-1760470200-1760482800@basildonttc.co.uk
SUMMARY:Basildon C vs Basildon E (Away)
DESCRIPTION:
URL:https://basildonttc.co.uk/event/basildon-c-vs-basildon-e-away-3/
END:VEVENT
BEGIN:VEVENT
DTSTART;TZID=Europe/London:20251014T193000
DTEND;TZID=Europe/London:20251014T230000
DTSTAMP:20260420T082125
CREATED:20250825T143420Z
LAST-MODIFIED:20250825T143420Z
UID:1314-1760470200-1760482800@basildonttc.co.uk
SUMMARY:Basildon B vs Hockley A (Away)
DESCRIPTION:
URL:https://basildonttc.co.uk/event/basildon-b-vs-hockley-a-away-4/
END:VEVENT
BEGIN:VEVENT
DTSTART;TZID=Europe/London:20251014T193000
DTEND;TZID=Europe/London:20251014T230000
DTSTAMP:20260420T082125
CREATED:20250825T141841Z
LAST-MODIFIED:20250825T141841Z
UID:1290-1760470200-1760482800@basildonttc.co.uk
SUMMARY:Basildon A vs Hockley B (Away)
DESCRIPTION:
URL:https://basildonttc.co.uk/event/basildon-a-vs-hockley-b-away/
END:VEVENT
BEGIN:VEVENT
DTSTART;TZID=Europe/London:20251013T193000
DTEND;TZID=Europe/London:20251013T230000
DTSTAMP:20260420T082125
CREATED:20250827T221836Z
LAST-MODIFIED:20250827T221836Z
UID:1652-1760383800-1760396400@basildonttc.co.uk
SUMMARY:Basildon C vs Hockley C (Away) - Southend League
DESCRIPTION:
URL:https://basildonttc.co.uk/event/basildon-c-vs-hockley-c-away-southend-league/
END:VEVENT
BEGIN:VEVENT
DTSTART;TZID=Europe/London:20251013T193000
DTEND;TZID=Europe/London:20251013T230000
DTSTAMP:20260420T082125
CREATED:20250827T221259Z
LAST-MODIFIED:20250827T221259Z
UID:1632-1760383800-1760396400@basildonttc.co.uk
SUMMARY:Basildon B vs Hockley C (Away) - Southend League
DESCRIPTION:
URL:https://basildonttc.co.uk/event/basildon-b-vs-hockley-c-away-southend-league/
END:VEVENT
BEGIN:VEVENT
DTSTART;TZID=Europe/London:20251013T193000
DTEND;TZID=Europe/London:20251013T230000
DTSTAMP:20260420T082125
CREATED:20250827T214416Z
LAST-MODIFIED:20250827T214416Z
UID:1557-1760383800-1760396400@basildonttc.co.uk
SUMMARY:Basildon G vs Canvey B (Away)
DESCRIPTION:
URL:https://basildonttc.co.uk/event/basildon-g-vs-canvey-b-away/
END:VEVENT
BEGIN:VEVENT
DTSTART;TZID=Europe/London:20251009T193000
DTEND;TZID=Europe/London:20251009T230000
DTSTAMP:20260420T082125
CREATED:20250827T215544Z
LAST-MODIFIED:20250827T215544Z
UID:1594-1760038200-1760050800@basildonttc.co.uk
SUMMARY:Basildon F vs COYS A (Away) – Handicap Cup preliminary round
DESCRIPTION:
URL:https://basildonttc.co.uk/event/basildon-f-vs-coys-a-away-handicap-cup-preliminary-round/
END:VEVENT
END:VCALENDAR