BEGIN:VCALENDAR
VERSION:2.0
PRODID:-//Basildon Table Tennis Club - ECPv6.15.17.1//NONSGML v1.0//EN
CALSCALE:GREGORIAN
METHOD:PUBLISH
X-WR-CALNAME:Basildon Table Tennis Club
X-ORIGINAL-URL:https://basildonttc.co.uk
X-WR-CALDESC:Events for Basildon Table Tennis Club
REFRESH-INTERVAL;VALUE=DURATION:PT1H
X-Robots-Tag:noindex
X-PUBLISHED-TTL:PT1H
BEGIN:VTIMEZONE
TZID:Europe/London
BEGIN:DAYLIGHT
TZOFFSETFROM:+0000
TZOFFSETTO:+0100
TZNAME:BST
DTSTART:20240331T010000
END:DAYLIGHT
BEGIN:STANDARD
TZOFFSETFROM:+0100
TZOFFSETTO:+0000
TZNAME:GMT
DTSTART:20241027T010000
END:STANDARD
BEGIN:DAYLIGHT
TZOFFSETFROM:+0000
TZOFFSETTO:+0100
TZNAME:BST
DTSTART:20250330T010000
END:DAYLIGHT
BEGIN:STANDARD
TZOFFSETFROM:+0100
TZOFFSETTO:+0000
TZNAME:GMT
DTSTART:20251026T010000
END:STANDARD
BEGIN:DAYLIGHT
TZOFFSETFROM:+0000
TZOFFSETTO:+0100
TZNAME:BST
DTSTART:20260329T010000
END:DAYLIGHT
BEGIN:STANDARD
TZOFFSETFROM:+0100
TZOFFSETTO:+0000
TZNAME:GMT
DTSTART:20261025T010000
END:STANDARD
END:VTIMEZONE
BEGIN:VEVENT
DTSTART;TZID=Europe/London:20251210T193000
DTEND;TZID=Europe/London:20251210T230000
DTSTAMP:20260421T170956
CREATED:20250827T220849Z
LAST-MODIFIED:20250827T220849Z
UID:1616-1765395000-1765407600@basildonttc.co.uk
SUMMARY:Basildon A vs Brand Identity (Home) - Southend League
DESCRIPTION:
URL:https://basildonttc.co.uk/event/basildon-a-vs-brand-identity-home-southend-league/
END:VEVENT
BEGIN:VEVENT
DTSTART;TZID=Europe/London:20251209T193000
DTEND;TZID=Europe/London:20251209T230000
DTSTAMP:20260421T170956
CREATED:20250827T214614Z
LAST-MODIFIED:20250827T214614Z
UID:1583-1765308600-1765321200@basildonttc.co.uk
SUMMARY:Basildon H vs Invicta (Away)
DESCRIPTION:
URL:https://basildonttc.co.uk/event/basildon-h-vs-invicta-away/
END:VEVENT
BEGIN:VEVENT
DTSTART;TZID=Europe/London:20251209T193000
DTEND;TZID=Europe/London:20251209T230000
DTSTAMP:20260421T170956
CREATED:20250827T093629Z
LAST-MODIFIED:20250827T095715Z
UID:1339-1765308600-1765321200@basildonttc.co.uk
SUMMARY:Basildon D vs Hockley B (Away)
DESCRIPTION:
URL:https://basildonttc.co.uk/event/basildon-d-vs-hockley-b-away-3/
END:VEVENT
BEGIN:VEVENT
DTSTART;TZID=Europe/London:20251209T193000
DTEND;TZID=Europe/London:20251209T230000
DTSTAMP:20260421T170956
CREATED:20250825T143424Z
LAST-MODIFIED:20250825T143424Z
UID:1320-1765308600-1765321200@basildonttc.co.uk
SUMMARY:Basildon B vs Basildon E (Away)
DESCRIPTION:
URL:https://basildonttc.co.uk/event/basildon-b-vs-basildon-e-away/
END:VEVENT
BEGIN:VEVENT
DTSTART;TZID=Europe/London:20251209T193000
DTEND;TZID=Europe/London:20251209T230000
DTSTAMP:20260421T170956
CREATED:20250825T141902Z
LAST-MODIFIED:20250825T141902Z
UID:1297-1765308600-1765321200@basildonttc.co.uk
SUMMARY:Basildon A vs Basildon C (Home)
DESCRIPTION:
URL:https://basildonttc.co.uk/event/basildon-a-vs-basildon-c-home/
END:VEVENT
BEGIN:VEVENT
DTSTART;TZID=Europe/London:20251203T193000
DTEND;TZID=Europe/London:20251203T230000
DTSTAMP:20260421T170956
CREATED:20250827T221841Z
LAST-MODIFIED:20250827T221841Z
UID:1657-1764790200-1764802800@basildonttc.co.uk
SUMMARY:Basildon C vs Mapledene (Home) - Southend League
DESCRIPTION:
URL:https://basildonttc.co.uk/event/basildon-c-vs-mapledene-home-southend-league/
END:VEVENT
BEGIN:VEVENT
DTSTART;TZID=Europe/London:20251203T193000
DTEND;TZID=Europe/London:20251203T230000
DTSTAMP:20260421T170956
CREATED:20250827T221303Z
LAST-MODIFIED:20250827T221303Z
UID:1637-1764790200-1764802800@basildonttc.co.uk
SUMMARY:Basildon B vs Mapledene (Home) - Southend League
DESCRIPTION:
URL:https://basildonttc.co.uk/event/basildon-b-vs-mapledene-home-southend-league/
END:VEVENT
BEGIN:VEVENT
DTSTART;TZID=Europe/London:20251203T193000
DTEND;TZID=Europe/London:20251203T230000
DTSTAMP:20260421T170956
CREATED:20250827T220848Z
LAST-MODIFIED:20250827T220848Z
UID:1615-1764790200-1764802800@basildonttc.co.uk
SUMMARY:Basildon A vs Matchpoint A (Away) - Southend League
DESCRIPTION:
URL:https://basildonttc.co.uk/event/basildon-a-vs-matchpoint-a-away-southend-league-2/
END:VEVENT
BEGIN:VEVENT
DTSTART;TZID=Europe/London:20251202T193000
DTEND;TZID=Europe/London:20251202T230000
DTSTAMP:20260421T170956
CREATED:20250827T214420Z
LAST-MODIFIED:20250827T214420Z
UID:1562-1764703800-1764716400@basildonttc.co.uk
SUMMARY:Basildon G vs Stanford C (Away)
DESCRIPTION:
URL:https://basildonttc.co.uk/event/basildon-g-vs-stanford-c-away-3/
END:VEVENT
BEGIN:VEVENT
DTSTART;TZID=Europe/London:20251202T193000
DTEND;TZID=Europe/London:20251202T230000
DTSTAMP:20260421T170956
CREATED:20250827T214239Z
LAST-MODIFIED:20250827T214239Z
UID:1542-1764703800-1764716400@basildonttc.co.uk
SUMMARY:Basildon F vs Stanford B (Away)
DESCRIPTION:
URL:https://basildonttc.co.uk/event/basildon-f-vs-stanford-b-away/
END:VEVENT
BEGIN:VEVENT
DTSTART;TZID=Europe/London:20251202T193000
DTEND;TZID=Europe/London:20251202T230000
DTSTAMP:20260421T170956
CREATED:20250825T143424Z
LAST-MODIFIED:20250825T143424Z
UID:1319-1764703800-1764716400@basildonttc.co.uk
SUMMARY:Basildon B vs Hockley B (Home)
DESCRIPTION:
URL:https://basildonttc.co.uk/event/basildon-b-vs-hockley-b-home/
END:VEVENT
BEGIN:VEVENT
DTSTART;TZID=Europe/London:20251202T193000
DTEND;TZID=Europe/London:20251202T230000
DTSTAMP:20260421T170956
CREATED:20250825T141847Z
LAST-MODIFIED:20250825T141847Z
UID:1296-1764703800-1764716400@basildonttc.co.uk
SUMMARY:Basildon A vs Hockley A (Away)
DESCRIPTION:
URL:https://basildonttc.co.uk/event/basildon-a-vs-hockley-a-away-3/
END:VEVENT
BEGIN:VEVENT
DTSTART;TZID=Europe/London:20251127T193000
DTEND;TZID=Europe/London:20251127T230000
DTSTAMP:20260421T170956
CREATED:20250827T214420Z
LAST-MODIFIED:20250827T214420Z
UID:1561-1764271800-1764284400@basildonttc.co.uk
SUMMARY:Basildon G vs Grays (Home)
DESCRIPTION:
URL:https://basildonttc.co.uk/event/basildon-g-vs-grays-home-3/
END:VEVENT
BEGIN:VEVENT
DTSTART;TZID=Europe/London:20251127T193000
DTEND;TZID=Europe/London:20251127T230000
DTSTAMP:20260421T170956
CREATED:20250827T214239Z
LAST-MODIFIED:20250827T214239Z
UID:1541-1764271800-1764284400@basildonttc.co.uk
SUMMARY:Basildon F vs Stanford C (Home)
DESCRIPTION:
URL:https://basildonttc.co.uk/event/basildon-f-vs-stanford-c-home-2/
END:VEVENT
BEGIN:VEVENT
DTSTART;TZID=Europe/London:20251126T193000
DTEND;TZID=Europe/London:20251126T230000
DTSTAMP:20260421T170956
CREATED:20250827T220848Z
LAST-MODIFIED:20250827T220848Z
UID:1614-1764185400-1764198000@basildonttc.co.uk
SUMMARY:Basildon A vs Rayleigh Mill (Away) - Southend League
DESCRIPTION:
URL:https://basildonttc.co.uk/event/basildon-a-vs-rayleigh-mill-away-southend-league/
END:VEVENT
BEGIN:VEVENT
DTSTART;TZID=Europe/London:20251125T193000
DTEND;TZID=Europe/London:20251125T230000
DTSTAMP:20260421T170956
CREATED:20250827T100317Z
LAST-MODIFIED:20250827T100317Z
UID:1404-1764099000-1764111600@basildonttc.co.uk
SUMMARY:Basildon E vs Hockley B (Away)
DESCRIPTION:
URL:https://basildonttc.co.uk/event/basildon-e-vs-hockley-b-away-2/
END:VEVENT
BEGIN:VEVENT
DTSTART;TZID=Europe/London:20251125T193000
DTEND;TZID=Europe/London:20251125T230000
DTSTAMP:20260421T170956
CREATED:20250827T100217Z
LAST-MODIFIED:20250827T100217Z
UID:1385-1764099000-1764111600@basildonttc.co.uk
SUMMARY:Basildon C vs Hockley A (Away)
DESCRIPTION:
URL:https://basildonttc.co.uk/event/basildon-c-vs-hockley-a-away/
END:VEVENT
BEGIN:VEVENT
DTSTART;TZID=Europe/London:20251125T193000
DTEND;TZID=Europe/London:20251125T230000
DTSTAMP:20260421T170956
CREATED:20250825T143424Z
LAST-MODIFIED:20250825T143424Z
UID:1318-1764099000-1764111600@basildonttc.co.uk
SUMMARY:Basildon B vs Stanford A (Away)
DESCRIPTION:
URL:https://basildonttc.co.uk/event/basildon-b-vs-stanford-a-away/
END:VEVENT
BEGIN:VEVENT
DTSTART;TZID=Europe/London:20251125T193000
DTEND;TZID=Europe/London:20251125T230000
DTSTAMP:20260421T170956
CREATED:20250825T141847Z
LAST-MODIFIED:20250825T141847Z
UID:1295-1764099000-1764111600@basildonttc.co.uk
SUMMARY:Basildon A vs Canvey A (Home)
DESCRIPTION:
URL:https://basildonttc.co.uk/event/basildon-a-vs-canvey-a-home/
END:VEVENT
BEGIN:VEVENT
DTSTART;TZID=Europe/London:20251124T193000
DTEND;TZID=Europe/London:20251124T230000
DTSTAMP:20260421T170956
CREATED:20250827T214614Z
LAST-MODIFIED:20250827T214614Z
UID:1582-1764012600-1764025200@basildonttc.co.uk
SUMMARY:Basildon H vs Canvey B (Away)
DESCRIPTION:
URL:https://basildonttc.co.uk/event/basildon-h-vs-canvey-b-away/
END:VEVENT
BEGIN:VEVENT
DTSTART;TZID=Europe/London:20251124T193000
DTEND;TZID=Europe/London:20251124T230000
DTSTAMP:20260421T170956
CREATED:20250827T093625Z
LAST-MODIFIED:20250827T094947Z
UID:1337-1764012600-1764025200@basildonttc.co.uk
SUMMARY:Basildon D vs Northlands Park (Away)
DESCRIPTION:
URL:https://basildonttc.co.uk/event/basildon-d-vs-northlands-park-away/
END:VEVENT
BEGIN:VEVENT
DTSTART;TZID=Europe/London:20251120T193000
DTEND;TZID=Europe/London:20251120T230000
DTSTAMP:20260421T170956
CREATED:20250827T221840Z
LAST-MODIFIED:20250827T221840Z
UID:1656-1763667000-1763679600@basildonttc.co.uk
SUMMARY:Basildon C vs Hadleigh Forum B (Away) - Southend League
DESCRIPTION:
URL:https://basildonttc.co.uk/event/basildon-c-vs-hadleigh-forum-b-away-southend-league/
END:VEVENT
BEGIN:VEVENT
DTSTART;TZID=Europe/London:20251120T193000
DTEND;TZID=Europe/London:20251120T230000
DTSTAMP:20260421T170956
CREATED:20250827T221303Z
LAST-MODIFIED:20250827T221303Z
UID:1636-1763667000-1763679600@basildonttc.co.uk
SUMMARY:Basildon B vs Hadleigh Forum B (Away) - Southend League
DESCRIPTION:
URL:https://basildonttc.co.uk/event/basildon-b-vs-hadleigh-forum-b-away-southend-league/
END:VEVENT
BEGIN:VEVENT
DTSTART;TZID=Europe/London:20251119T193000
DTEND;TZID=Europe/London:20251119T230000
DTSTAMP:20260421T170956
CREATED:20250827T220834Z
LAST-MODIFIED:20250827T220834Z
UID:1613-1763580600-1763593200@basildonttc.co.uk
SUMMARY:Basildon A vs Thorpe Bay A (Home) - Southend League
DESCRIPTION:
URL:https://basildonttc.co.uk/event/basildon-a-vs-thorpe-bay-a-home-southend-league/
END:VEVENT
BEGIN:VEVENT
DTSTART;TZID=Europe/London:20251113T193000
DTEND;TZID=Europe/London:20251113T230000
DTSTAMP:20260421T170956
CREATED:20250827T214613Z
LAST-MODIFIED:20250827T214613Z
UID:1581-1763062200-1763074800@basildonttc.co.uk
SUMMARY:Basildon H vs Coys B (Home)
DESCRIPTION:
URL:https://basildonttc.co.uk/event/basildon-h-vs-coys-b-home/
END:VEVENT
BEGIN:VEVENT
DTSTART;TZID=Europe/London:20251113T193000
DTEND;TZID=Europe/London:20251113T230000
DTSTAMP:20260421T170956
CREATED:20250827T214417Z
LAST-MODIFIED:20250827T214417Z
UID:1560-1763062200-1763074800@basildonttc.co.uk
SUMMARY:Basildon G vs Wickford Community Centre (Away)
DESCRIPTION:
URL:https://basildonttc.co.uk/event/basildon-g-vs-wickford-community-centre-away/
END:VEVENT
BEGIN:VEVENT
DTSTART;TZID=Europe/London:20251113T193000
DTEND;TZID=Europe/London:20251113T230000
DTSTAMP:20260421T170956
CREATED:20250827T214239Z
LAST-MODIFIED:20250827T214239Z
UID:1540-1763062200-1763074800@basildonttc.co.uk
SUMMARY:Basildon F vs Grays (Away)
DESCRIPTION:
URL:https://basildonttc.co.uk/event/basildon-f-vs-grays-away-2/
END:VEVENT
BEGIN:VEVENT
DTSTART;TZID=Europe/London:20251113T193000
DTEND;TZID=Europe/London:20251113T230000
DTSTAMP:20260421T170956
CREATED:20250827T093625Z
LAST-MODIFIED:20250827T094911Z
UID:1336-1763062200-1763074800@basildonttc.co.uk
SUMMARY:Basildon D vs Selbourne (Home)
DESCRIPTION:
URL:https://basildonttc.co.uk/event/basildon-d-vs-selbourne-home/
END:VEVENT
BEGIN:VEVENT
DTSTART;TZID=Europe/London:20251113T193000
DTEND;TZID=Europe/London:20251113T230000
DTSTAMP:20260421T170956
CREATED:20250825T141847Z
LAST-MODIFIED:20250825T141847Z
UID:1294-1763062200-1763074800@basildonttc.co.uk
SUMMARY:Basildon A vs Coys A (Away)
DESCRIPTION:
URL:https://basildonttc.co.uk/event/basildon-a-vs-coys-a-away-2/
END:VEVENT
BEGIN:VEVENT
DTSTART;TZID=Europe/London:20251112T193000
DTEND;TZID=Europe/London:20251112T230000
DTSTAMP:20260421T170956
CREATED:20250827T221840Z
LAST-MODIFIED:20250827T221840Z
UID:1655-1762975800-1762988400@basildonttc.co.uk
SUMMARY:Basildon C vs Rawreth C (Home) - Southend League
DESCRIPTION:
URL:https://basildonttc.co.uk/event/basildon-c-vs-rawreth-c-home-southend-league/
END:VEVENT
END:VCALENDAR