BEGIN:VCALENDAR
VERSION:2.0
PRODID:-//Basildon Table Tennis Club - ECPv6.15.17.1//NONSGML v1.0//EN
CALSCALE:GREGORIAN
METHOD:PUBLISH
X-WR-CALNAME:Basildon Table Tennis Club
X-ORIGINAL-URL:https://basildonttc.co.uk
X-WR-CALDESC:Events for Basildon Table Tennis Club
REFRESH-INTERVAL;VALUE=DURATION:PT1H
X-Robots-Tag:noindex
X-PUBLISHED-TTL:PT1H
BEGIN:VTIMEZONE
TZID:Europe/London
BEGIN:DAYLIGHT
TZOFFSETFROM:+0000
TZOFFSETTO:+0100
TZNAME:BST
DTSTART:20250330T010000
END:DAYLIGHT
BEGIN:STANDARD
TZOFFSETFROM:+0100
TZOFFSETTO:+0000
TZNAME:GMT
DTSTART:20251026T010000
END:STANDARD
BEGIN:DAYLIGHT
TZOFFSETFROM:+0000
TZOFFSETTO:+0100
TZNAME:BST
DTSTART:20260329T010000
END:DAYLIGHT
BEGIN:STANDARD
TZOFFSETFROM:+0100
TZOFFSETTO:+0000
TZNAME:GMT
DTSTART:20261025T010000
END:STANDARD
BEGIN:DAYLIGHT
TZOFFSETFROM:+0000
TZOFFSETTO:+0100
TZNAME:BST
DTSTART:20270328T010000
END:DAYLIGHT
BEGIN:STANDARD
TZOFFSETFROM:+0100
TZOFFSETTO:+0000
TZNAME:GMT
DTSTART:20271031T010000
END:STANDARD
END:VTIMEZONE
BEGIN:VEVENT
DTSTART;TZID=Europe/London:20260106T193000
DTEND;TZID=Europe/London:20260106T230000
DTSTAMP:20260419T191451
CREATED:20250827T221309Z
LAST-MODIFIED:20250827T221309Z
UID:1640-1767727800-1767740400@basildonttc.co.uk
SUMMARY:Basildon B vs Wakering A (Away) - Southend League
DESCRIPTION:
URL:https://basildonttc.co.uk/event/basildon-b-vs-wakering-a-away-southend-league/
END:VEVENT
BEGIN:VEVENT
DTSTART;TZID=Europe/London:20260106T193000
DTEND;TZID=Europe/London:20260106T230000
DTSTAMP:20260419T191451
CREATED:20250827T221857Z
LAST-MODIFIED:20250827T221857Z
UID:1660-1767727800-1767740400@basildonttc.co.uk
SUMMARY:Basildon C vs Wakering A (Away) - Southend League
DESCRIPTION:
URL:https://basildonttc.co.uk/event/basildon-c-vs-wakering-a-away-southend-league/
END:VEVENT
BEGIN:VEVENT
DTSTART;TZID=Europe/London:20260107T193000
DTEND;TZID=Europe/London:20260107T230000
DTSTAMP:20260419T191451
CREATED:20250827T220849Z
LAST-MODIFIED:20250827T220849Z
UID:1618-1767814200-1767826800@basildonttc.co.uk
SUMMARY:Basildon A vs Thorpe Bay B (Home) - Southend League
DESCRIPTION:
URL:https://basildonttc.co.uk/event/basildon-a-vs-thorpe-bay-b-home-southend-league/
END:VEVENT
BEGIN:VEVENT
DTSTART;TZID=Europe/London:20260112T193000
DTEND;TZID=Europe/London:20260112T230000
DTSTAMP:20260419T191451
CREATED:20250827T100217Z
LAST-MODIFIED:20250827T100217Z
UID:1387-1768246200-1768258800@basildonttc.co.uk
SUMMARY:Basildon C vs Northlands Park (Away)
DESCRIPTION:
URL:https://basildonttc.co.uk/event/basildon-c-vs-northlands-park-away/
END:VEVENT
BEGIN:VEVENT
DTSTART;TZID=Europe/London:20260113T193000
DTEND;TZID=Europe/London:20260113T230000
DTSTAMP:20260419T191451
CREATED:20250825T141902Z
LAST-MODIFIED:20250825T141902Z
UID:1298-1768332600-1768345200@basildonttc.co.uk
SUMMARY:Basildon A vs Selbourne (Away)
DESCRIPTION:
URL:https://basildonttc.co.uk/event/basildon-a-vs-selbourne-away-2/
END:VEVENT
BEGIN:VEVENT
DTSTART;TZID=Europe/London:20260113T193000
DTEND;TZID=Europe/London:20260113T230000
DTSTAMP:20260419T191451
CREATED:20250825T143439Z
LAST-MODIFIED:20250825T143439Z
UID:1321-1768332600-1768345200@basildonttc.co.uk
SUMMARY:Basildon B vs Basildon D (Home)
DESCRIPTION:
URL:https://basildonttc.co.uk/event/basildon-b-vs-basildon-d-home-2/
END:VEVENT
BEGIN:VEVENT
DTSTART;TZID=Europe/London:20260113T193000
DTEND;TZID=Europe/London:20260113T230000
DTSTAMP:20260419T191451
CREATED:20250827T100317Z
LAST-MODIFIED:20250827T100317Z
UID:1405-1768332600-1768345200@basildonttc.co.uk
SUMMARY:Basildon E vs Coys A (Home)
DESCRIPTION:
URL:https://basildonttc.co.uk/event/basildon-e-vs-coys-a-home/
END:VEVENT
BEGIN:VEVENT
DTSTART;TZID=Europe/London:20260114T193000
DTEND;TZID=Europe/London:20260114T230000
DTSTAMP:20260419T191451
CREATED:20250827T220904Z
LAST-MODIFIED:20250827T220904Z
UID:1619-1768419000-1768431600@basildonttc.co.uk
SUMMARY:Basildon A vs Hadleigh Forum A (Away) - Southend League
DESCRIPTION:
URL:https://basildonttc.co.uk/event/basildon-a-vs-hadleigh-forum-a-away-southend-league/
END:VEVENT
BEGIN:VEVENT
DTSTART;TZID=Europe/London:20260114T193000
DTEND;TZID=Europe/London:20260114T230000
DTSTAMP:20260419T191451
CREATED:20250827T221309Z
LAST-MODIFIED:20250827T221309Z
UID:1641-1768419000-1768431600@basildonttc.co.uk
SUMMARY:Basildon B vs Hockley C (Home) - Southend League
DESCRIPTION:
URL:https://basildonttc.co.uk/event/basildon-b-vs-hockley-c-home-southend-league/
END:VEVENT
BEGIN:VEVENT
DTSTART;TZID=Europe/London:20260114T193000
DTEND;TZID=Europe/London:20260114T230000
DTSTAMP:20260419T191451
CREATED:20250827T221857Z
LAST-MODIFIED:20250827T221857Z
UID:1661-1768419000-1768431600@basildonttc.co.uk
SUMMARY:Basildon C vs Hockley C (Home) - Southend League
DESCRIPTION:
URL:https://basildonttc.co.uk/event/basildon-c-vs-hockley-c-home-southend-league/
END:VEVENT
BEGIN:VEVENT
DTSTART;TZID=Europe/London:20260115T193000
DTEND;TZID=Europe/London:20260115T230000
DTSTAMP:20260419T191451
CREATED:20250827T214253Z
LAST-MODIFIED:20250827T214253Z
UID:1544-1768505400-1768518000@basildonttc.co.uk
SUMMARY:Basildon F vs Basildon G (Away)
DESCRIPTION:
URL:https://basildonttc.co.uk/event/basildon-f-vs-basildon-g-away-3/
END:VEVENT
BEGIN:VEVENT
DTSTART;TZID=Europe/London:20260115T193000
DTEND;TZID=Europe/London:20260115T230000
DTSTAMP:20260419T191451
CREATED:20250827T214614Z
LAST-MODIFIED:20250827T214614Z
UID:1584-1768505400-1768518000@basildonttc.co.uk
SUMMARY:Basildon H vs Wickford Community Centre (Home)
DESCRIPTION:
URL:https://basildonttc.co.uk/event/basildon-h-vs-wickford-community-centre-home/
END:VEVENT
BEGIN:VEVENT
DTSTART;TZID=Europe/London:20260119T193000
DTEND;TZID=Europe/London:20260119T230000
DTSTAMP:20260419T191451
CREATED:20250827T100317Z
LAST-MODIFIED:20250827T100317Z
UID:1406-1768851000-1768863600@basildonttc.co.uk
SUMMARY:Basildon E vs Canvey A (Away)
DESCRIPTION:
URL:https://basildonttc.co.uk/event/basildon-e-vs-canvey-a-away/
END:VEVENT
BEGIN:VEVENT
DTSTART;TZID=Europe/London:20260119T193000
DTEND;TZID=Europe/London:20260119T230000
DTSTAMP:20260419T191451
CREATED:20250827T221309Z
LAST-MODIFIED:20250827T221309Z
UID:1642-1768851000-1768863600@basildonttc.co.uk
SUMMARY:Basildon B vs Hockley B (Away) - Southend League
DESCRIPTION:
URL:https://basildonttc.co.uk/event/basildon-b-vs-hockley-b-away-southend-league/
END:VEVENT
BEGIN:VEVENT
DTSTART;TZID=Europe/London:20260119T193000
DTEND;TZID=Europe/London:20260119T230000
DTSTAMP:20260419T191451
CREATED:20250827T221857Z
LAST-MODIFIED:20250827T221857Z
UID:1662-1768851000-1768863600@basildonttc.co.uk
SUMMARY:Basildon C vs Hockley B (Away) - Southend League
DESCRIPTION:
URL:https://basildonttc.co.uk/event/basildon-c-vs-hockley-b-away-southend-league/
END:VEVENT
BEGIN:VEVENT
DTSTART;TZID=Europe/London:20260120T193000
DTEND;TZID=Europe/London:20260120T230000
DTSTAMP:20260419T191451
CREATED:20250825T141903Z
LAST-MODIFIED:20250825T141903Z
UID:1299-1768937400-1768950000@basildonttc.co.uk
SUMMARY:Basildon A vs Northlands Park (Home)
DESCRIPTION:
URL:https://basildonttc.co.uk/event/basildon-a-vs-northlands-park-home/
END:VEVENT
BEGIN:VEVENT
DTSTART;TZID=Europe/London:20260120T193000
DTEND;TZID=Europe/London:20260120T230000
DTSTAMP:20260419T191451
CREATED:20250827T100231Z
LAST-MODIFIED:20250827T100231Z
UID:1388-1768937400-1768950000@basildonttc.co.uk
SUMMARY:Basildon C vs Stanford A (Home)
DESCRIPTION:
URL:https://basildonttc.co.uk/event/basildon-c-vs-stanford-a-home-2/
END:VEVENT
BEGIN:VEVENT
DTSTART;TZID=Europe/London:20260121T193000
DTEND;TZID=Europe/London:20260121T230000
DTSTAMP:20260419T191451
CREATED:20250827T220904Z
LAST-MODIFIED:20250827T220904Z
UID:1620-1769023800-1769036400@basildonttc.co.uk
SUMMARY:Basildon A vs Rawreth B (Home) - Southend League
DESCRIPTION:
URL:https://basildonttc.co.uk/event/basildon-a-vs-rawreth-b-home-southend-league/
END:VEVENT
BEGIN:VEVENT
DTSTART;TZID=Europe/London:20260122T193000
DTEND;TZID=Europe/London:20260122T230000
DTSTAMP:20260419T191451
CREATED:20250825T143439Z
LAST-MODIFIED:20250825T143439Z
UID:1322-1769110200-1769122800@basildonttc.co.uk
SUMMARY:Basildon B vs Coys A (Away)
DESCRIPTION:
URL:https://basildonttc.co.uk/event/basildon-b-vs-coys-a-away-4/
END:VEVENT
BEGIN:VEVENT
DTSTART;TZID=Europe/London:20260122T193000
DTEND;TZID=Europe/London:20260122T230000
DTSTAMP:20260419T191451
CREATED:20250827T214254Z
LAST-MODIFIED:20250827T214254Z
UID:1545-1769110200-1769122800@basildonttc.co.uk
SUMMARY:Basildon F vs Coys B (Home)
DESCRIPTION:
URL:https://basildonttc.co.uk/event/basildon-f-vs-coys-b-home/
END:VEVENT
BEGIN:VEVENT
DTSTART;TZID=Europe/London:20260122T193000
DTEND;TZID=Europe/London:20260122T230000
DTSTAMP:20260419T191451
CREATED:20250827T214614Z
LAST-MODIFIED:20250827T214614Z
UID:1585-1769110200-1769122800@basildonttc.co.uk
SUMMARY:Basildon H vs Grays (Away)
DESCRIPTION:
URL:https://basildonttc.co.uk/event/basildon-h-vs-grays-away-3/
END:VEVENT
BEGIN:VEVENT
DTSTART;TZID=Europe/London:20260126T193000
DTEND;TZID=Europe/London:20260126T230000
DTSTAMP:20260419T191451
CREATED:20250827T214254Z
LAST-MODIFIED:20250827T214254Z
UID:1546-1769455800-1769468400@basildonttc.co.uk
SUMMARY:Basildon F vs Canvey B (Away)
DESCRIPTION:
URL:https://basildonttc.co.uk/event/basildon-f-vs-canvey-b-away/
END:VEVENT
BEGIN:VEVENT
DTSTART;TZID=Europe/London:20260126T193000
DTEND;TZID=Europe/London:20260126T230000
DTSTAMP:20260419T191451
CREATED:20250827T220904Z
LAST-MODIFIED:20250827T220904Z
UID:1621-1769455800-1769468400@basildonttc.co.uk
SUMMARY:Basildon A vs Hockley A (Away) - Southend League
DESCRIPTION:
URL:https://basildonttc.co.uk/event/basildon-a-vs-hockley-a-away-southend-league/
END:VEVENT
BEGIN:VEVENT
DTSTART;TZID=Europe/London:20260127T193000
DTEND;TZID=Europe/London:20260127T230000
DTSTAMP:20260419T191451
CREATED:20250825T141903Z
LAST-MODIFIED:20250825T141903Z
UID:1300-1769542200-1769554800@basildonttc.co.uk
SUMMARY:Basildon A vs Stanford A (Away)
DESCRIPTION:
URL:https://basildonttc.co.uk/event/basildon-a-vs-stanford-a-away/
END:VEVENT
BEGIN:VEVENT
DTSTART;TZID=Europe/London:20260127T193000
DTEND;TZID=Europe/London:20260127T230000
DTSTAMP:20260419T191451
CREATED:20250825T143439Z
LAST-MODIFIED:20250825T143439Z
UID:1323-1769542200-1769554800@basildonttc.co.uk
SUMMARY:Basildon B vs Canvey A (Home)
DESCRIPTION:
URL:https://basildonttc.co.uk/event/basildon-b-vs-canvey-a-home-2/
END:VEVENT
BEGIN:VEVENT
DTSTART;TZID=Europe/London:20260127T193000
DTEND;TZID=Europe/London:20260127T230000
DTSTAMP:20260419T191451
CREATED:20250827T100232Z
LAST-MODIFIED:20250827T100232Z
UID:1389-1769542200-1769554800@basildonttc.co.uk
SUMMARY:Basildon C vs Hockley B (Away)
DESCRIPTION:
URL:https://basildonttc.co.uk/event/basildon-c-vs-hockley-b-away-3/
END:VEVENT
BEGIN:VEVENT
DTSTART;TZID=Europe/London:20260127T193000
DTEND;TZID=Europe/London:20260127T230000
DTSTAMP:20260419T191451
CREATED:20250827T100317Z
LAST-MODIFIED:20250827T100317Z
UID:1407-1769542200-1769554800@basildonttc.co.uk
SUMMARY:Basildon E vs Hockley A (Home)
DESCRIPTION:
URL:https://basildonttc.co.uk/event/basildon-e-vs-hockley-a-home/
END:VEVENT
BEGIN:VEVENT
DTSTART;TZID=Europe/London:20260128T193000
DTEND;TZID=Europe/London:20260128T230000
DTSTAMP:20260419T191451
CREATED:20250827T221321Z
LAST-MODIFIED:20250827T221321Z
UID:1643-1769628600-1769641200@basildonttc.co.uk
SUMMARY:Basildon B vs Hadleigh Forum C (Home) - Southend League
DESCRIPTION:
URL:https://basildonttc.co.uk/event/basildon-b-vs-hadleigh-forum-c-home-southend-league/
END:VEVENT
BEGIN:VEVENT
DTSTART;TZID=Europe/London:20260128T193000
DTEND;TZID=Europe/London:20260128T230000
DTSTAMP:20260419T191451
CREATED:20250827T221912Z
LAST-MODIFIED:20250827T221912Z
UID:1663-1769628600-1769641200@basildonttc.co.uk
SUMMARY:Basildon C vs Hadleigh Forum C (Home) - Southend League
DESCRIPTION:
URL:https://basildonttc.co.uk/event/basildon-c-vs-hadleigh-forum-c-home-southend-league/
END:VEVENT
BEGIN:VEVENT
DTSTART;TZID=Europe/London:20260129T193000
DTEND;TZID=Europe/London:20260129T230000
DTSTAMP:20260419T191451
CREATED:20250827T093630Z
LAST-MODIFIED:20250827T095146Z
UID:1341-1769715000-1769727600@basildonttc.co.uk
SUMMARY:Basildon D vs Coys A (Home)
DESCRIPTION:
URL:https://basildonttc.co.uk/event/basildon-d-vs-coys-a-home/
END:VEVENT
END:VCALENDAR